BEGIN:VCALENDAR
VERSION:2.0
PRODID:-//Apple Inc.//iCal 5.0.2//EN
CALSCALE:GREGORIAN
BEGIN:VTIMEZONE
TZID:Australia/
BEGIN:STANDARD
TZOFFSETFROM:+1100
RRULE:FREQ=YEARLY;BYMONTH=4;BYDAY=1SU
DTSTART:20080406T030000
TZNAME:
TZOFFSETTO:+
END:STANDARD
BEGIN:DAYLIGHT
TZOFFSETFROM:+
RRULE:FREQ=YEARLY;BYMONTH=10;BYDAY=1SU
DTSTART:20081005T020000
TZNAME:AEDT
TZOFFSETTO:+1100
END:DAYLIGHT
END:VTIMEZONE
BEGIN:VEVENT
CREATED:20260425T020026
UID:Property15148845Inspection52754549
DTEND;TZID=Australia/:19700101T000000
TRANSP:OPAQUE
SUMMARY:Open For Inspection: 1/28 Gertrude Street, Highgate Hill
DESCRIPTION:Nothing Fancy, But Affordable Budget Renting in Highgate Hill! - CALL TODAY TO REGISTER YOUR INTEREST FOR A VIEWING; Located In a quiet, elevated street within easy access to public transport, Qld Uni, South Bank or West End's cafe's and approx. a 15 minute walk to South Bank is this 1 bedroom self contained flat. 

This flat is clean, tidy, has polished hardwood floors, a white galley style kitchen with gas stove, security grills on all windows/doors and is in a small block of just 4 flats, with other quiet tenants. 

Fixed rent of just $325 p/week available for a preferred 12 month lease ( power or gas not included, just water ).

For further details or to arrange a viewing, please call our office on: 07 3846 5622
LAST-MODIFIED:20260425T020026
DTSTAMP:20260425T020026
DTSTART;TZID=Australia/:19700101T100000
LOCATION:1/28 Gertrude Street Highgate Hill QLD 4101
URL:http://www.agentm.property/15148845
SEQUENCE:0
END:VEVENT
END:VCALENDAR
