BEGIN:VCALENDAR
VERSION:2.0
PRODID:-//Apple Inc.//iCal 5.0.2//EN
CALSCALE:GREGORIAN
BEGIN:VTIMEZONE
TZID:Australia/
BEGIN:STANDARD
TZOFFSETFROM:+1100
RRULE:FREQ=YEARLY;BYMONTH=4;BYDAY=1SU
DTSTART:20080406T030000
TZNAME:
TZOFFSETTO:+
END:STANDARD
BEGIN:DAYLIGHT
TZOFFSETFROM:+
RRULE:FREQ=YEARLY;BYMONTH=10;BYDAY=1SU
DTSTART:20081005T020000
TZNAME:AEDT
TZOFFSETTO:+1100
END:DAYLIGHT
END:VTIMEZONE
BEGIN:VEVENT
CREATED:20260425T015919
UID:Property16401165Inspection52754552
DTEND;TZID=Australia/:19700101T000000
TRANSP:OPAQUE
SUMMARY:Open For Inspection: 12 Brisbane Street, ANNERLEY
DESCRIPTION:UNDER APPLICATION / DEPOSIT PAID  - Close to Dutton Park/Annerley Border is "Huntworth" a Fabulous Character Rental Home! - CALL TODAY TO REGISTER FOR YOUR INSPECTION
 
Located in a quiet, leafy street conveniently positioned to the PA Hospital, local Rail or Bus services, shops and within easy reach to the University of Qld, is this fabulous 3 bedroom character Qld'er home. 

The house itself just oozes charm from the time you walk up the front steps past the front veranda & down the hallway. It also has a bonus of 2 study rooms, high ceilings, VJ interior walls throughout, polished timber floors, traditional fret work or feature glass panels and there's even a Big deck out back to entertain or relax on.   

A couple years ago the property had undergone some cosmetic renovations with fresh paint inside & out, a new modern bathroom fitted, new kitchen bench tops, some minor landscaping and new carport built. The property is fully fenced, has room for up to 3 cars to be parked in tandem & if you have a Pet, they are up for consideration when you apply.

This one would surely make a good rental choice for a family or professional couple.

12 Month lease only at $700 Weekly and Pet considered! 

Get in touch for your Inspection ASAP. 

For Further Details Or to Arrange a Viewing, Please call Our Office on 07 3846 5622
LAST-MODIFIED:20260425T015919
DTSTAMP:20260425T015919
DTSTART;TZID=Australia/:19700101T100000
LOCATION:12 Brisbane Street ANNERLEY QLD 4103
URL:http://www.agentm.property/16401165
SEQUENCE:0
END:VEVENT
END:VCALENDAR
