BEGIN:VCALENDAR
VERSION:2.0
PRODID:-//Apple Inc.//iCal 5.0.2//EN
CALSCALE:GREGORIAN
BEGIN:VTIMEZONE
TZID:Australia/
BEGIN:STANDARD
TZOFFSETFROM:+1100
RRULE:FREQ=YEARLY;BYMONTH=4;BYDAY=1SU
DTSTART:20080406T030000
TZNAME:
TZOFFSETTO:+
END:STANDARD
BEGIN:DAYLIGHT
TZOFFSETFROM:+
RRULE:FREQ=YEARLY;BYMONTH=10;BYDAY=1SU
DTSTART:20081005T020000
TZNAME:AEDT
TZOFFSETTO:+1100
END:DAYLIGHT
END:VTIMEZONE
BEGIN:VEVENT
CREATED:20260425T020026
UID:Property13093323Inspection52754578
DTEND;TZID=Australia/:19700101T000000
TRANSP:OPAQUE
SUMMARY:Open For Inspection: 16 Ampthill Street, HIGHGATE HILL
DESCRIPTION:1st Weeks Rent Free - Inspect by Appointment Only Until Further Notice! Min. lease 6 Months! - Clean, Tidy, Affordable Furnished Flat! - Located in Highgate Hill Just around the corner from Bus services, within easy access to Qld Uni, South Bank & the CBD is this renovated 4 bedroom furnished flat. This property has 2 bathrooms, polished floors, high ceilings with fans, a modern galley kitchen which is fully equipped with Basic furnishings. There is also a carport for 1 car, off street parking for 1 other and a private fenced front yard.

Rent of $680 p/week Includes - gas, water, electricity & Internet.

Minimum lease of 6 Months required & sorry no pets!

For further details or to arrange a viewing, please call our office on - 07 3846 5622
LAST-MODIFIED:20260425T020026
DTSTAMP:20260425T020026
DTSTART;TZID=Australia/:19700101T100000
LOCATION:16 Ampthill Street HIGHGATE HILL QLD 4101
URL:http://www.agentm.property/13093323
SEQUENCE:0
END:VEVENT
END:VCALENDAR
