BEGIN:VCALENDAR
VERSION:2.0
PRODID:-//Apple Inc.//iCal 5.0.2//EN
CALSCALE:GREGORIAN
BEGIN:VTIMEZONE
TZID:Australia/
BEGIN:STANDARD
TZOFFSETFROM:+1100
RRULE:FREQ=YEARLY;BYMONTH=4;BYDAY=1SU
DTSTART:20080406T030000
TZNAME:
TZOFFSETTO:+
END:STANDARD
BEGIN:DAYLIGHT
TZOFFSETFROM:+
RRULE:FREQ=YEARLY;BYMONTH=10;BYDAY=1SU
DTSTART:20081005T020000
TZNAME:AEDT
TZOFFSETTO:+1100
END:DAYLIGHT
END:VTIMEZONE
BEGIN:VEVENT
CREATED:20260425T015819
UID:Property19997968Inspection52754580
DTEND;TZID=Australia/:19700101T000000
TRANSP:OPAQUE
SUMMARY:Open For Inspection: 4a Colville Street, Highgate Hill
DESCRIPTION:UNDER APPLLCATION /RENTED - Multi Level Executive Villa! - CALL TO REGISTER YOUR INTEREST FOR A VIEWING TODAY; Located in a quiet, elevated location in the rear of the development is this Multi level Villa/home. This fabulous executive villa, presents like new and features many modern day conveniences, has high ceilings, is spacious and has polished timber floors, there's even a butlers pantry. 

There are 3 generous bedrooms, main with en-suite, built in cupboards all on the top floor. There's a lovely private rear deck, large modern designer kitchen and open floor plan, there's also a lock up garage for 1 car + 1 car space. This property so conveniently located, close to West End's cafe scene, with easy access to the river and city cat services, but all still just 10 minutes from the CBD.              

All inspections by appointment!

12 month lease option available, at a fixed rent & a pet may be considered.

for further information or to arrange a viewing, please call our office on 3846 5622.
LAST-MODIFIED:20260425T015819
DTSTAMP:20260425T015819
DTSTART;TZID=Australia/:19700101T100000
LOCATION:4a Colville Street Highgate Hill QLD 4101
URL:http://www.agentm.property/19997968
SEQUENCE:0
END:VEVENT
END:VCALENDAR
