BEGIN:VCALENDAR
VERSION:2.0
PRODID:-//Apple Inc.//iCal 5.0.2//EN
CALSCALE:GREGORIAN
BEGIN:VTIMEZONE
TZID:Australia/
BEGIN:STANDARD
TZOFFSETFROM:+1100
RRULE:FREQ=YEARLY;BYMONTH=4;BYDAY=1SU
DTSTART:20080406T030000
TZNAME:
TZOFFSETTO:+
END:STANDARD
BEGIN:DAYLIGHT
TZOFFSETFROM:+
RRULE:FREQ=YEARLY;BYMONTH=10;BYDAY=1SU
DTSTART:20081005T020000
TZNAME:AEDT
TZOFFSETTO:+1100
END:DAYLIGHT
END:VTIMEZONE
BEGIN:VEVENT
CREATED:20260425T022046
UID:Property20429838Inspection52756259
DTEND;TZID=Australia/:20200301T123000
TRANSP:OPAQUE
SUMMARY:Open For Inspection: 107 Percival Street, Rangiora
DESCRIPTION:Smart Investing! - Conveniently located close to a wealth of amenities, this robustly constructed property will attract considerable interest from investors seeking a proven performer to add to their portfolios. 
This warm and inviting home features two bedrooms, a well-appointed bathroom (including a shower over bath and vanity, toilet), and a functional kitchen. The spacious living room and the sun-soaked dining area provide plenty of flexibility, with a heatpump promising year-round comfort and the dedicated laundry room enhancing practicality.
Added extras new carpets in bedrooms, new flooring in kitchen, bathroom and laundry, new roof in 2015 plus new heatpump installed 2019, the front and back door and window seals have only recently been painted. Insulated roof.
The fully fenced grounds are compact enough to be considered low maintenance yet big enough for the adults to entertain and the kids to run around. Carport and ample off-street parking contribute further appeal.
In terms of location, pretty much everything is on your doorstep! Cafes, shops and all the other amenities available in Rangiora, as is Victoria park. Zoning for St Joseph's Primary and Rangiora High schools caters to every educational need.
Currently sitting vacant, this lovingly maintained home is ready and awaiting its new owners. But be warned - homes in this ever-popular pocket of Rangiora are always in demand, and interest is sure to be high. Immediate action is advised - contact Anita 022 151 2671 now for further details.
LAST-MODIFIED:20260425T022046
DTSTAMP:20260425T022046
DTSTART;TZID=Australia/:20200301T120000
LOCATION:107 Percival Street Rangiora CNTBRY 7400
URL:http://www.remax.co.nz/20429838
SEQUENCE:0
END:VEVENT
END:VCALENDAR
