BEGIN:VCALENDAR
VERSION:2.0
PRODID:-//Apple Inc.//iCal 5.0.2//EN
CALSCALE:GREGORIAN
BEGIN:VTIMEZONE
TZID:Australia/
BEGIN:STANDARD
TZOFFSETFROM:+1100
RRULE:FREQ=YEARLY;BYMONTH=4;BYDAY=1SU
DTSTART:20080406T030000
TZNAME:
TZOFFSETTO:+
END:STANDARD
BEGIN:DAYLIGHT
TZOFFSETFROM:+
RRULE:FREQ=YEARLY;BYMONTH=10;BYDAY=1SU
DTSTART:20081005T020000
TZNAME:AEDT
TZOFFSETTO:+1100
END:DAYLIGHT
END:VTIMEZONE
BEGIN:VEVENT
CREATED:20260425T010726
UID:Property20641928Inspection53765276
DTEND;TZID=Australia/:20210227T104500
TRANSP:OPAQUE
SUMMARY:Open For Inspection: 11/1 Parc Guell Drive, CAMPBELLTOWN
DESCRIPTION:Presenting now is this wonderful 2 bedroom modern unit which is located in a fantastic location in a secured block - Inspect: Sat Feb 13th 10:30 - 10:50 am
Giuseppe (Joe) Scavera  9639 0999  0499 999 994

Presenting now is this wonderful 2 bedrooms, a modern unit which is located in a fantastic location in a secured block.

Features include:

- Open lounge and dining area
- Modern kitchen & bathroom
- Gas cooking
- Spacious size bedrooms with built-ins
- Master bedroom includes ensuite
- 2 separate balcony areas
- Secure lock-up garage
- Air conditioning

Within walking distance to Macarthur Square shopping centre, Campbelltown Hospital, parks and all other amenities.

Don't miss out on this fantastic opportunity. Book-in your appointment today!!

LAST-MODIFIED:20260425T010726
DTSTAMP:20260425T010726
DTSTART;TZID=Australia/:20210227T103000
LOCATION:11/1 Parc Guell Drive CAMPBELLTOWN NSW 2560
URL:remaxhl.com.au/20641928
SEQUENCE:0
END:VEVENT
END:VCALENDAR
