BEGIN:VCALENDAR
VERSION:2.0
PRODID:-//Apple Inc.//iCal 5.0.2//EN
CALSCALE:GREGORIAN
BEGIN:VTIMEZONE
TZID:Australia/
BEGIN:STANDARD
TZOFFSETFROM:+1100
RRULE:FREQ=YEARLY;BYMONTH=4;BYDAY=1SU
DTSTART:20080406T030000
TZNAME:
TZOFFSETTO:+
END:STANDARD
BEGIN:DAYLIGHT
TZOFFSETFROM:+
RRULE:FREQ=YEARLY;BYMONTH=10;BYDAY=1SU
DTSTART:20081005T020000
TZNAME:AEDT
TZOFFSETTO:+1100
END:DAYLIGHT
END:VTIMEZONE
BEGIN:VEVENT
CREATED:20260425T003600
UID:Property20630275Inspection53728719
DTEND;TZID=Australia/:20210227T113000
TRANSP:OPAQUE
SUMMARY:Open For Inspection: 128 Clark Road, MORAYFIELD
DESCRIPTION:PRICE REDUCED! MOTIVATED SELLER - An Investment with potential Development !

Great investment opportunity attention future investors

A much sort after acreage property on 9100m2, positioned in close proximately of schools, day care, shopping and public transport.

This property features: 
- Open plan living, dining and kitchen, high raked ceilings 
- 3 bedrooms, master with ensuite and walkin robe
- Good size bathroom, separate toilet, extra Large laundry
- The Outdoor entertaining area is enclosed and looks out over the quiet back yard. 
- 9m x 6m shed with power and water, double carport with extra height,
- Solar hot water, horse paddocks, chook pen, vege garden and dam.

Enjoy the nature, trees and quite tranquil and very private lifestyle now. There is the chance for future development to acquire this land at some stage, enjoy now and reap the rewards in the coming years. 

Acreage properties are selling fast, don't let this opportunity to own your very own parcel of land in the heart of Morayfield.

Contact me today  Jane Causton 0481 520 940 for your private inspection.

LAST-MODIFIED:20260425T003600
DTSTAMP:20260425T003600
DTSTART;TZID=Australia/:20210227T110000
LOCATION:128 Clark Road MORAYFIELD QLD 4506
URL:http://www.standout-property.com.au//20630275
SEQUENCE:0
END:VEVENT
END:VCALENDAR
