BEGIN:VCALENDAR
VERSION:2.0
PRODID:-//Apple Inc.//iCal 5.0.2//EN
CALSCALE:GREGORIAN
BEGIN:VTIMEZONE
TZID:Australia/
BEGIN:STANDARD
TZOFFSETFROM:+1100
RRULE:FREQ=YEARLY;BYMONTH=4;BYDAY=1SU
DTSTART:20080406T030000
TZNAME:
TZOFFSETTO:+
END:STANDARD
BEGIN:DAYLIGHT
TZOFFSETFROM:+
RRULE:FREQ=YEARLY;BYMONTH=10;BYDAY=1SU
DTSTART:20081005T020000
TZNAME:AEDT
TZOFFSETTO:+1100
END:DAYLIGHT
END:VTIMEZONE
BEGIN:VEVENT
CREATED:20260425T005014
UID:Property20616411Inspection53752912
DTEND;TZID=Australia/:20210227T101500
TRANSP:OPAQUE
SUMMARY:Open For Inspection: 10 BISHAMPTON CIRCUIT, LOGAN RESERVE
DESCRIPTION:Immaculate 3 year old family home in sought after Logan Reserve - As soon as you enter this home you will fall in love... 
You will see how the current owners have cared for this property.

You will be truly impressed by the immaculate presentation of this home both inside and out. Boasting a large master bedroom with WIR, en-suite and ceiling fan as well as another 3 good- sized bedrooms with BIR's and ceiling fans. The family bathroom is spacious and modern and has a separate toilet

Features Include :

• Great sized master bedroom with en-suite, double shower , WIR and ceiling fan
• 4 bedrooms with BIR's and ceiling fans
• Large family bathroom with separate toilet
• Combined air- conditioned living/dining area that opens out to the undercover alfresco area
• Great sized laundry
• Double garage
• Low maintenance 430 m2 backyard

Located in a beautiful family estate and a wonderful community to call home...

Situated in the ever popular Logan Reserve to take advantage of the surrounded amenities including local schools such as Logan Reserve Primary School, nearby shops such as Waterford Plaza, Holmview Central, Hyperdome Shopping Centre and Grand Plaza Shopping Centre, public transport and local park like Stoneleigh Park featuring BBQ facilities, hiking & bike trails and sports facilities. You are also close to the M1, Mt Lindsay Highway and Logan Motorways as well as easy access to Logan Hospital, Logan TAFE Campus and Griffith University Logan Campus

 Be quick to inspect this neat and tidy 4 bedroom, 2 bathroom ,2 living ,2 garage home!!! 

 Call Karyn Fairbanks on 0410 525 632  to arrange your private inspection 

Disclaimer : Assett Realty  and its employees cannot be held responsible for any inaccurate details supplied here. We have in preparing this information used our best endeavours to ensure that the information contained herein is true and accurate but accept no responsibility and disclaim all liability in respect of any errors, omissions, inaccuracies or misstatements that may occur. Prospective purchasers should make their own enquiries to verify the information contained herein.
LAST-MODIFIED:20260425T005014
DTSTAMP:20260425T005014
DTSTART;TZID=Australia/:20210227T094500
LOCATION:10 BISHAMPTON CIRCUIT LOGAN RESERVE QLD 4133
URL:http://www.assettrealty.com.au/20616411
SEQUENCE:0
END:VEVENT
END:VCALENDAR
