BEGIN:VCALENDAR
VERSION:2.0
PRODID:-//Apple Inc.//iCal 5.0.2//EN
CALSCALE:GREGORIAN
BEGIN:VTIMEZONE
TZID:Australia/
BEGIN:STANDARD
TZOFFSETFROM:+1100
RRULE:FREQ=YEARLY;BYMONTH=4;BYDAY=1SU
DTSTART:20080406T030000
TZNAME:
TZOFFSETTO:+
END:STANDARD
BEGIN:DAYLIGHT
TZOFFSETFROM:+
RRULE:FREQ=YEARLY;BYMONTH=10;BYDAY=1SU
DTSTART:20081005T020000
TZNAME:AEDT
TZOFFSETTO:+1100
END:DAYLIGHT
END:VTIMEZONE
BEGIN:VEVENT
CREATED:20260425T004610
UID:Property20559311Inspection53752913
DTEND;TZID=Australia/:20210227T110000
TRANSP:OPAQUE
SUMMARY:Open For Inspection: Lot 1 & 2, 12 GROESCHEL COURT, GOODNA
DESCRIPTION:BRAND NEW 4 BEDROOM, 2 BATHROOM , 2 LIVING  HOMES !  HALF WAY THROUGH BUILD ... - FIRST HOME BUYERS ...  COULD THIS  BE YOUR NEW HOME !?

QUICK ..... GOVERNMENT GRANTS STILL AVAILABLE..... $15,000 & 25,000   
You could be eligible for up to $40,000 in government grants towards your NEW home 
Don't miss the boat ..HOME BUILDER GRANT AVAILABLE TILL December ( TCA APPLY )


These homes are half way through the build  already and will be finished soon ..... 
On  450 m2 approx each or a total  block size 919 m2 
A rare opportunity awaits with multiple options available.... 

Purchase this whole duplex for an investment, extended family or live in one & rent out the other or purchase one , perfect for investors/downsizers or first home buyers 

Offering so much inside and out, both units host 4 good sized bedrooms, 2 bathrooms 
Every bedroom offers built-in wardrobes with the master having an en-suite and a walk-in wardrobe
Together with this, the property offers a bright and light open plan living and dining area with a second separate living area to top it off ,giving you plenty of room for those extra family activities.. 
Moving on... we are onto the grand kitchen including a cook top, stainless steel appliances including dishwasher , quality bench top and large walk-in pantry. The terrace is located off the dining/ living area where it draws in lots of sunshine perfect space to enjoy the morning coffee or watch the kiddies play  !!!! 


Features Incl: (For Both Properties)

* 4 Good Size Bedrooms 
* 2 Bathrooms w/ Shower, Toilet and Wash Area
* Built-In Wardrobes to every room
* Master room offers an  En-suite and  good size Walk-In Robe 
* 2 Spacious Living Areas
* Air Conditioned
* Dishwasher
* Walk-In Pantry 
* Linen Cupboard 
* Separate Laundry
* 1 Single Remote Garage (Builder says ... Option also for a carport available  to you ) 
* Terrace 
* Fully Fenced large backyard 
450 m2 ( approx each )
* Plenty of room for the shed / man cave / swing set / trampoline 
* 25 km to Brisbane CBD
* 80 km to Gold Coast CBD
* 15 km to Ipswich CBD

The views from this block are absolutely amazing and the breeze that comes through whilst sitting on the terrace in the afternoon is a refreshing end to your day. Definitely adds lots of value!!! .With summer on the way, I know where I would be spending my time 

Close to all amenities, nearby parks,close to local schools and shopping areas, also close to the Ipswich Motorway the fast track to Brisbane to Ipswich & Gold Coast.

If you have any questions about this property please do not hesitate to contact
exclusive agent Karyn Fairbanks TODAY on Ph : 0410 525 632

Disclaimer:
ASSETT PTY LTD T/A ASSETT REALTY and its agents have not independently checked any of the information, documents and property description, mentioned in this advertisement, We have simply explained the property information in our advertising and marketing. We do not take and responsibility in any way and also give no warranty or assurances as to the accuracy and authenticity of all this information. Prospective Buyers and tenants must conduct their own Due Diligence and investigations before taking any decision on buying or renting this property. The pictures, floor plans and videos may have been digitally enhanced or may not show the correct condition and dimensions of the property. We strongly suggest potential buyers and tenants to inspect the property and take proper legal and financial advice before signing any agreements and contracts

LAST-MODIFIED:20260425T004610
DTSTAMP:20260425T004610
DTSTART;TZID=Australia/:20210227T103000
LOCATION:Lot 1 & 2, 12 GROESCHEL COURT GOODNA QLD 4300
URL:http://www.assettrealty.com.au/20559311
SEQUENCE:0
END:VEVENT
END:VCALENDAR
