BEGIN:VCALENDAR
VERSION:2.0
PRODID:-//Apple Inc.//iCal 5.0.2//EN
CALSCALE:GREGORIAN
BEGIN:VTIMEZONE
TZID:Australia/
BEGIN:STANDARD
TZOFFSETFROM:+1100
RRULE:FREQ=YEARLY;BYMONTH=4;BYDAY=1SU
DTSTART:20080406T030000
TZNAME:
TZOFFSETTO:+
END:STANDARD
BEGIN:DAYLIGHT
TZOFFSETFROM:+
RRULE:FREQ=YEARLY;BYMONTH=10;BYDAY=1SU
DTSTART:20081005T020000
TZNAME:AEDT
TZOFFSETTO:+1100
END:DAYLIGHT
END:VTIMEZONE
BEGIN:VEVENT
CREATED:20260425T004842
UID:Property20648054Inspection53752914
DTEND;TZID=Australia/:20210227T120000
TRANSP:OPAQUE
SUMMARY:Open For Inspection: 3 WATTLE STREET, HEATHWOOD
DESCRIPTION:WOW ... WHAT A HOME! ... 4 + STUDY ... SOLAR PANELS, NATURAL GAS, WATER TANK & AND SO MUCH MORE TO OFFER  ! - We are proud to present to you this well positioned home with loads to offer ...

Sensationally positioned in the highly sought-after precinct of Heathwood and situated right across the street from a children's play area. Wattle street is like your own tranquil private access driveway
Your low maintenance home has Ducted Air-Conditioning and is carpeted and tiled through-out and adorned with Elegant Louvres for privacy on all the windows. The bedrooms all have built in robes and the Main has an Ensuite with Double Shower & 3 door Built-in wardrobe.
This just freshly repainted home has been well maintained by the owner and comes with Natural Gas, Solar Panels, Water Tank, Study/Library with Security screens on doors and windows, ceiling fans, dishwasher and is carpeted and tiled throughout
Walking distance to Parkwood Village Shopping Centre, Kids Magic Kindergarten and 2 minute drive to M2 Motorway and Larapinta Equestrian Centre and only 10 minute drive to Browns Plains Shopping Centre and only 30 Kilometres from Brisbane CBD
Enjoy relaxing and entertaining in the comfortable undercover, tiled entertainment area overlooking the low maintenance level and fenced yard which is great for little ones to play 
This property has been priced to meet market expectations and won't last long
Don't let this great opportunity pass you by! - 

Property Features
•	All 4 Bedrooms with Built-in-Wardrobes
•	Master with ensuite, Double Shower & 3 door Built-in wardrobe
•	Study / Library with a whole wall built-in-bookshelf
•	Ducted Air Conditioning & Ceiling Fans throughout
•	Security Alarm System & Security Screens, Doors & Windows throughout
•	Solar Panels
        3 Wattle Street, Heathwood QLD 4110

4 BEDROOM, SOLAR PANELS, NATURAL GAS & WATER TANK !
Location, Location, Location - Perfect for Buyers or Investors!

This just freshly repainted home has been well maintained by the owner and comes with Natural Gas, Solar Panels, Water Tank, Study/Library with Security screens on doors and windows, ceiling fans, dishwasher and is carpeted and tiled throughout
Walking distance to Parkwood Village Shopping Centre, Kids Magic Kindergarten and 2 minute drive to M2 Motorway and Larapinta Equestrian Centre and only 10 minute drive to Browns Plains Shopping Centre and only 30 Kilometres from Brisbane CBD
Enjoy relaxing and entertaining in the comfortable undercover, tiled entertainment area overlooking the low maintenance level and fenced yard which is great for little ones to play 

Property Features

•	Modern Kitchen with Natural Gas, Dish Washer & Modern Pantry
•	All 4 Bedrooms with Built-in-Wardrobes
•	Master bedroom with Ensuite with Double Shower & 3 door Built-in wardrobe 
•	Huge Study / Library with a whole wall built-in-bookshelf
•	Ducted Air Conditioning & Ceiling Fans throughout
•	Lovely  modern Louvers throughout the home offering privacy and reduction from heat from the sun
•	Security Alarm System & Security Screens, Doors & Windows throughout
•	Solar Panels
•	Natural Gas Cooking and Hot Water
•	Open Plan Lounge, Dining and Living Rooms
•	Single lock-up garage with remote control and Carport
•	Carpet & Tiled
•	Internal Laundry with Bench and Lots of cupboards
•	Outdoor Alfresco Area, Tiled with Fan to sit and enjoy with family and friends.
•	5000 Litre Water Tank
•	Low maintenance 422 m2 Block and landscaped backyard with plenty of space to play
•	Personal Side Access and Garden Shed
•	Short drive to Grand Plaza Shopping Centre, Schools, Buses and local parks
•	Short drive to M2 Motorway

To find out how you could secure this beautiful home & amazing investment property, contact Karyn Fairbanks on  Mob : 0410 525 632 today!!

Facilities & Amenities
400 metres to Bus Stop and 10min drive to Richlands Railway Station
Browns Plains Grand Plaza which consists of Woolworths - Coles - Aldi - Target - Kmart - Restaurants - Take-Aways and Specialty Shops and Event Cinemas
Centrally located to local parks and sporting fields and Bus Transport and Richlands train station only 9km away.  
Convenient access to Ipswich, Brisbane, Gold Coast and Sunshine Coast via M2 Motorway 
Schools / Colleges
	Pallara State School - Combined - Government 0.78km
	Forest Lake State High School - Combined - Non-Government 1.9km
	St. John's Anglican College - Mixed - Government 2.12km
	Grand Avenues State School - Primary - Government 2.96km
	Serviceton South State School - Mixed - Government 3.2km

LAST-MODIFIED:20260425T004842
DTSTAMP:20260425T004842
DTSTART;TZID=Australia/:20210227T113000
LOCATION:3 WATTLE STREET HEATHWOOD QLD 4110
URL:http://www.assettrealty.com.au/20648054
SEQUENCE:0
END:VEVENT
END:VCALENDAR
