BEGIN:VCALENDAR
VERSION:2.0
PRODID:-//Apple Inc.//iCal 5.0.2//EN
CALSCALE:GREGORIAN
BEGIN:VTIMEZONE
TZID:Australia/
BEGIN:STANDARD
TZOFFSETFROM:+1100
RRULE:FREQ=YEARLY;BYMONTH=4;BYDAY=1SU
DTSTART:20080406T030000
TZNAME:
TZOFFSETTO:+
END:STANDARD
BEGIN:DAYLIGHT
TZOFFSETFROM:+
RRULE:FREQ=YEARLY;BYMONTH=10;BYDAY=1SU
DTSTART:20081005T020000
TZNAME:AEDT
TZOFFSETTO:+1100
END:DAYLIGHT
END:VTIMEZONE
BEGIN:VEVENT
CREATED:20260425T004610
UID:Property20647645Inspection53766442
DTEND;TZID=Australia/:20210302T163000
TRANSP:OPAQUE
SUMMARY:Open For Inspection: 21 SHAUN STREET, REDBANK PLAINS
DESCRIPTION:IDEAL 4 BEDROOM, 2 LIVING, FAMILY HOME IN QUIET LOCATION ... ... - This 4-bedroom rendered brick home has been created with the needs of every family member in mind, resulting in spaces which are abundant; any room will be a joy to live in. It will tick all your boxes !
Offering separate dining area, open plan family room, it perfectly meets the requirements of your growing and changing family 
Created with the needs of every family member in mind, resulting in spaces which are abundant; any room will be a joy to live in

Features Include : 

-4  great size carpeted bedrooms all with  built- in wardrobes 
-Master bedroom is a great size, comprising of walk- in robe, ceiling fan, en-suite that includes shower and toilet 
-Modern open plan spacious kitchen, with plenty of bench and storage space, electric cooktop, stainless steel appliances, dishwasher and pantry 
- Family bathroom with both shower and bathtub, and a separate toilet
-Tiled spacious air-conditioned living and dining areas
-Dining area adjacent to the kitchen with sliding doors opening onto the covered alfresco area
-Undercover Alfresco Area
-Double Remote Garage with internal access and rear door to back yard 
-Large 524 m2 fully fenced  flay back yard ... great space for the kiddies to play and enjoy
-Security Screens throughout 
-Tiled roof 
-NBN available
- Well positioned in a very quiet location in the heart of the thriving Redbank Plains precinct 

For The Investor : 
Currently tenanted  $345 per week  till May with tenants hoping to stay on

The location is fabulous with close proximity to the new Redbank town Square, local parks, transport facilities, primary and secondary schools, day care, medical/dental as well as sporting and entertainment venues.
The convenient access to Ipswich Road to Brisbane and the Cunningham Highway to Warwick, or the Western Suburbs of Brisbane/ Brisbane City along with the Warrego Highway to Toowoomba.

Contact Karyn Fairbanks TODAY on Mob : 0410 525 632  to inspect  this lovely home

Disclaimer:
ASSETT PTY LTD T/A ASSETT REALTY and its agents have not independently checked any of the information, documents and property description, mentioned in this advertisement, We have simply explained the property information in our advertising and marketing. We do not take and responsibility in any way and also give no warranty or assurances as to the accuracy and authenticity of all this information. Prospective Buyers and tenants must conduct their own Due Diligence and investigations before taking any decision on buying or renting this property. The pictures, floor plans and videos may have been digitally enhanced or may not show the correct condition and dimensions of the property. We strongly suggest potential buyers and tenants to inspect the property and take proper legal and financial advice before signing any agreements and contracts

LAST-MODIFIED:20260425T004610
DTSTAMP:20260425T004610
DTSTART;TZID=Australia/:20210302T160000
LOCATION:21 SHAUN STREET REDBANK PLAINS QLD 4301
URL:http://www.assettrealty.com.au/20647645
SEQUENCE:0
END:VEVENT
END:VCALENDAR
