BEGIN:VCALENDAR
VERSION:2.0
PRODID:-//Apple Inc.//iCal 5.0.2//EN
CALSCALE:GREGORIAN
BEGIN:VTIMEZONE
TZID:Australia/
BEGIN:STANDARD
TZOFFSETFROM:+1100
RRULE:FREQ=YEARLY;BYMONTH=4;BYDAY=1SU
DTSTART:20080406T030000
TZNAME:
TZOFFSETTO:+
END:STANDARD
BEGIN:DAYLIGHT
TZOFFSETFROM:+
RRULE:FREQ=YEARLY;BYMONTH=10;BYDAY=1SU
DTSTART:20081005T020000
TZNAME:AEDT
TZOFFSETTO:+1100
END:DAYLIGHT
END:VTIMEZONE
BEGIN:VEVENT
CREATED:20260425T012329
UID:Property20067887Inspection53749626
DTEND;TZID=Australia/:20210227T133000
TRANSP:OPAQUE
SUMMARY:Open For Inspection: 13 Torrens Street, Werribee
DESCRIPTION:A place for comfort and lifestyle living - A cozy home, offering lifestyle and comfort. A homely place where you just move in and relax. Conveniently located in quiet, beautiful street, yet positioned with all facilities within easy reach. The house comprises of  3 bedrooms, 2 with BIR, the layout is conveniently arranged with two living areas, new kitchen and polished floor board throughout for healthy living. A central bathroom and separate laundry with door to the pergola and back yard.  For comfort in winter there is ducted heating and AC in living area.

Outside there is a double carport and enclosed pergola and a shed.  Nicely tended back and front gardens offering plenty of space for kids to run around and weekend family gathering.

Property is currently rented at $410/week.

The property is close to kinder, schools, transport and shops. 

Please note: photos taken before tenanted with displayed furniture.  It will be updated with new photos when we can arrange with the tenants.

Due diligence checklist - for home and residential property buyers
http://www.consumer.vic.gov.au/duediligencechecklist
LAST-MODIFIED:20260425T012329
DTSTAMP:20260425T012329
DTSTART;TZID=Australia/:20210227T130000
LOCATION:13 Torrens Street Werribee VIC 3030
URL:http://www.equitylinks.com.au/20067887
SEQUENCE:0
END:VEVENT
END:VCALENDAR
