BEGIN:VCALENDAR
VERSION:2.0
PRODID:-//Apple Inc.//iCal 5.0.2//EN
CALSCALE:GREGORIAN
BEGIN:VTIMEZONE
TZID:Australia/
BEGIN:STANDARD
TZOFFSETFROM:+1100
RRULE:FREQ=YEARLY;BYMONTH=4;BYDAY=1SU
DTSTART:20080406T030000
TZNAME:
TZOFFSETTO:+
END:STANDARD
BEGIN:DAYLIGHT
TZOFFSETFROM:+
RRULE:FREQ=YEARLY;BYMONTH=10;BYDAY=1SU
DTSTART:20081005T020000
TZNAME:AEDT
TZOFFSETTO:+1100
END:DAYLIGHT
END:VTIMEZONE
BEGIN:VEVENT
CREATED:20260425T023953
UID:Property20039985Inspection51682877
DTEND;TZID=Australia/:20190302T103000
TRANSP:OPAQUE
SUMMARY:Open For Inspection: 13/3 Grange Court, CAPALABA
DESCRIPTION:One Of A Kind..You Will Want To Make This Yours!! - The commitment here is a total commitment to sell. This 4 yr old home will be sold, the only question is to who? Offering a great location and a very unique design this standalone townhome is the one to make yours. So we invite all serious buyers to come and inspect because you will have a chance to own it!! Don't wait to be told it's under contract.

With Premium finishes, plenty of room and a Super Low Maintenance design, this home will suit most small families, first home buyers & investors alike. It features Multiple Living Areas, a Massive Double Lock up Garage, Beautiful Courtyard, 2 Separate Balconies, a Great Kitchen & it's only a few steps to the Sparking Pool, there's not much more you could need! 

Located in a Boutique Complex only a couple of minutes drive from the 2 Major Shopping Centres in the area, as well as being close to the arterials which will whisk you to either the City or the Bay in no time, also with good proximity to the local dining strips and schools, this is a fantastic spot to be.

13/3 Grange Court Offers you the following:

>>> 3 Bedrooms all with Built-In Wardrobes
>>> 2 Full Bathrooms + a Separate Powder Room
>>> Air-Conditioning
>>> Security Screens
>>> Gas Cooktop
>>> 2 Balconies
>>> Huge Double Lock-Up Garage
>>> Gorgeous Courtyard
>>> Pool and BBQ facilities

Don't Wait - Contact either Todd  today for more details or to book your Private Inspection!
LAST-MODIFIED:20260425T023953
DTSTAMP:20260425T023953
DTSTART;TZID=Australia/:20190302T100000
LOCATION:13/3 Grange Court CAPALABA QLD 4157
URL:http://www.toddgerhardtrealty.com.au/20039985
SEQUENCE:0
END:VEVENT
END:VCALENDAR
