BEGIN:VCALENDAR
VERSION:2.0
PRODID:-//Apple Inc.//iCal 5.0.2//EN
CALSCALE:GREGORIAN
BEGIN:VTIMEZONE
TZID:Australia/
BEGIN:STANDARD
TZOFFSETFROM:+1100
RRULE:FREQ=YEARLY;BYMONTH=4;BYDAY=1SU
DTSTART:20080406T030000
TZNAME:
TZOFFSETTO:+
END:STANDARD
BEGIN:DAYLIGHT
TZOFFSETFROM:+
RRULE:FREQ=YEARLY;BYMONTH=10;BYDAY=1SU
DTSTART:20081005T020000
TZNAME:AEDT
TZOFFSETTO:+1100
END:DAYLIGHT
END:VTIMEZONE
BEGIN:VEVENT
CREATED:20260425T015919
UID:Property20415040Inspection52749813
DTEND;TZID=Australia/:20200229T104500
TRANSP:OPAQUE
SUMMARY:Open For Inspection: 59/10 Tripcony Place, WAKERLEY
DESCRIPTION:Large Townhome..Mossvale Estate..This Could Be The One! - Tucked away in the best part of this desirable boutique complex, this immaculate townhouse boasts a spacious and practical floor plan. With 3 large bedrooms, 2 sleek bathrooms, a double car garage, excellent privacy and a relaxed lifestyle which includes a pool,  townhome living has never been easier.

Being so close to the entry/exit of the complex gives you easy access in and out and not navigating any tight complex parking etc. Walk out the door and up to Manly Rd to public transport, Mayfair Village and there are parks and playgrounds just down the street. Only 25 minutes to the CBD, 15 minutes to the airport, 10 minutes to Westfield Carindale, Manly foreshore and Gateway Motorway. Everything is at your fingertips.

Whether you are looking to buy a new home or an investment property, this townhome is sure to impress. Arrange your inspection today or visit the upcoming open home. Either way make sure you see this home before it is gone. Don't wait to be told its sold!

59/10 Tripcony Place features
- 3 Good sized bedrooms all with built ins master features WIR
- 2 Immaculate bathrooms
- Open plan kitchen, dining and lounge area
- Ducted air conditioning throughout 
- Covered alfresco area and courtyard
- Secure 6m x 5.9m double car garage with visitors parking available
- Neatly maintained complex in the Mossvale estate
- Situated close to Mayfair Shopping Village and Gumdale Village
- Excellent rental return


LAST-MODIFIED:20260425T015919
DTSTAMP:20260425T015919
DTSTART;TZID=Australia/:20200229T101500
LOCATION:59/10 Tripcony Place WAKERLEY QLD 4154
URL:http://www.toddgerhardtrealty.com.au/20415040
SEQUENCE:0
END:VEVENT
END:VCALENDAR
