BEGIN:VCALENDAR
VERSION:2.0
PRODID:-//Apple Inc.//iCal 5.0.2//EN
CALSCALE:GREGORIAN
BEGIN:VTIMEZONE
TZID:Australia/
BEGIN:STANDARD
TZOFFSETFROM:+1100
RRULE:FREQ=YEARLY;BYMONTH=4;BYDAY=1SU
DTSTART:20080406T030000
TZNAME:
TZOFFSETTO:+
END:STANDARD
BEGIN:DAYLIGHT
TZOFFSETFROM:+
RRULE:FREQ=YEARLY;BYMONTH=10;BYDAY=1SU
DTSTART:20081005T020000
TZNAME:AEDT
TZOFFSETTO:+1100
END:DAYLIGHT
END:VTIMEZONE
BEGIN:VEVENT
CREATED:20260425T022000
UID:Property20304866Inspection52749815
DTEND;TZID=Australia/:20200229T111500
TRANSP:OPAQUE
SUMMARY:Open For Inspection: 4 McCormack Place, WAKERLEY
DESCRIPTION:Large Expansive Design...Elevated Position Overlooking A Family Friendly Cul-De-Sac - Take advantage of this great opportunity to move into McCormack Place which is 100% owner occupied and is tightly held. Cul-De-Sac living can be the best place to raise your family and this is truly a tranquil location that will be in demand. On offer is a large double storey family home that is immaculate, spacious and ready for you to move into. Boasting marble flooring throughout the ground floor, 5 bedrooms, 3 bathrooms all with Marble sinks and vanities, a spacious formal living and dining room, a well-appointed kitchen, living and dining area which is great for the family gatherings and an outdoor entertaining area overlooking the pool and backyard, this gorgeous home really has it all. If you haven't found the right buy as yet, this could be it. Someone will grab this special buying opportunity, will it be you?

Well located and within walking distance to Wakerley Park, public transport, Mayfair Village, Eastside Village, Gumdale State school, local parks and playgrounds. Just a few minutes by car to the Gateway motorway, Manly boat harbour, Moreton Bay college, Westfield Carindale and only 25 minutes to the CBD, McCormack Place is handy to everything.

4 McCormack Place Features
- 140 metres to the express busline to the CBD 
- Solar power with a 5 kw inverter ($255 per quarter power bills)
- Pietra Grey and Bianca white marble vanities 
- Pietra Grey marble tiling used in the bathrooms
- Low maintenance Persian creme marble tiles throughout
- Large spacious open plan living perfect for entertaining
- Media room or family area that can also open to the alfresco
- Luxurious formal living and dining 
- Kids retreat plus study nook upstairs 
- 5 bedrooms 5 with built ins. Master has fitted WIR
- 3 Immaculate bathrooms, master suite features spa bath
- Gourmet kitchen has plenty of bench space and storage
- Private outdoor entertaining area and backyard for the kids and pets
- A large family sized pool that the kids will love
- The backyard offers great privacy with a tranquil setting
- Crimsafe and security screens throughout, Air conditioning and B2B alarm system


Homes of this quality in such a prime location don't last forever. Arrange your private inspection today!

LAST-MODIFIED:20260425T022000
DTSTAMP:20260425T022000
DTSTART;TZID=Australia/:20200229T104500
LOCATION:4 McCormack Place WAKERLEY QLD 4154
URL:http://www.toddgerhardtrealty.com.au/20304866
SEQUENCE:0
END:VEVENT
END:VCALENDAR
