BEGIN:VCALENDAR
VERSION:2.0
PRODID:-//Apple Inc.//iCal 5.0.2//EN
CALSCALE:GREGORIAN
BEGIN:VTIMEZONE
TZID:Australia/
BEGIN:STANDARD
TZOFFSETFROM:+1100
RRULE:FREQ=YEARLY;BYMONTH=4;BYDAY=1SU
DTSTART:20080406T030000
TZNAME:
TZOFFSETTO:+
END:STANDARD
BEGIN:DAYLIGHT
TZOFFSETFROM:+
RRULE:FREQ=YEARLY;BYMONTH=10;BYDAY=1SU
DTSTART:20081005T020000
TZNAME:AEDT
TZOFFSETTO:+1100
END:DAYLIGHT
END:VTIMEZONE
BEGIN:VEVENT
CREATED:20260425T021934
UID:Property20362611Inspection52749822
DTEND;TZID=Australia/:20200229T114500
TRANSP:OPAQUE
SUMMARY:Open For Inspection: 1 Nursery Place, WAKERLEY
DESCRIPTION:Ultimate Low Maintenance Living In Immaculate Condition And Elevated To Catch The Breezes - If you are looking for a low maintenance property that you will enjoy coming home to then 1 Nursery Place is the one for you. The weekends will be yours and being in ultra immaculate condition there is nothing for you to do but enjoy the relaxed lifestyle that awaits. With beautiful landscaping this home has great street appeal but once you step inside you will want to stay. Boasting 4 bedrooms , 2 spacious living areas, 2 immaculate  bathrooms, a 6m x 8m garage, a kitchen that will impress and every feature that you could add this sensational home will not last long!

With stunning homes lining the streets you can see why this estate is one of the most sought after locations in Gumdale/Wakerley. With a friendly and super quiet street you will be able to de-stress after a long day. Less than 10 minutes on foot to the Mayfair Village and parks with excellent cycling or walking tracks. Jump in your car the Gumdale Village is only a couple of minutes away and Westfield Carindale, the Gateway motorway and Manly boat harbour are only a 10 minutes drive. You have everything at your fingertips in a superb environment.
Arrange your private inspection today. Don't wait to be told it's sold!

1 Nursery Place Features
- 4 Good sized bedrooms 3 with built in robes
- 2 Bathrooms in immaculate condition
- Fully landscaped gardens at the front and rear of the home
- 8m wide and 6m deep garage!!
- Media room or separated 2nd living space
- Large open plan living and dining
- Spacious outdoor living with a NORTH/EAST aspect
- The kitchen is well appointed and has ample storage 
- Everything about this home screams well looked after
- Air conditioning and ceiling fans
- One of the highest points in Wakerley less than 10 minutes to the water
- Quiet cul- de -sac living with no traffic noise or flight paths

Absolutely nothing to do to this home. If you are looking for turn key this home is it. Make sure you visit the open home or arrange your private inspection if low maintenance is high on your list.
LAST-MODIFIED:20260425T021934
DTSTAMP:20260425T021934
DTSTART;TZID=Australia/:20200229T111500
LOCATION:1 Nursery Place WAKERLEY QLD 4154
URL:http://www.toddgerhardtrealty.com.au/20362611
SEQUENCE:0
END:VEVENT
END:VCALENDAR
