BEGIN:VCALENDAR
VERSION:2.0
PRODID:-//Apple Inc.//iCal 5.0.2//EN
CALSCALE:GREGORIAN
BEGIN:VTIMEZONE
TZID:Australia/
BEGIN:STANDARD
TZOFFSETFROM:+1100
RRULE:FREQ=YEARLY;BYMONTH=4;BYDAY=1SU
DTSTART:20080406T030000
TZNAME:
TZOFFSETTO:+
END:STANDARD
BEGIN:DAYLIGHT
TZOFFSETFROM:+
RRULE:FREQ=YEARLY;BYMONTH=10;BYDAY=1SU
DTSTART:20081005T020000
TZNAME:AEDT
TZOFFSETTO:+1100
END:DAYLIGHT
END:VTIMEZONE
BEGIN:VEVENT
CREATED:20260425T024435
UID:Property20158530Inspection51682751
DTEND;TZID=Australia/:20190302T133000
TRANSP:OPAQUE
SUMMARY:Open For Inspection: 13 Lockwood Street, Yokine
DESCRIPTION:Hidden Gem - Suprisingly big for families searching for an easy-care home big on location & lifestyle, need look no further than this three bedroom two bathroom 3 wcs home. large parkland nearby, schools including High and a short walk to buses, there is something for everyone. A modest facade belies this home's impressive proportions and clever floor plan that presents a stylish kitchen flanked by a open plan lounge and sunlit dining, opening to a courtyard for easy entertaining. An additional sitting room and three good sized bedrooms upstairs assure privacy and space for all the family, while two tidy bathrooms, master with ensuite, heating/cooling, alarm and remote garage Extensive undercover entertainment area guarantee comfort and security.
LAST-MODIFIED:20260425T024435
DTSTAMP:20260425T024435
DTSTART;TZID=Australia/:20190302T130000
LOCATION:13 Lockwood Street Yokine WA 6060
URL:http://www.citytosurf.net.au/20158530
SEQUENCE:0
END:VEVENT
END:VCALENDAR
