BEGIN:VCALENDAR
VERSION:2.0
PRODID:-//Apple Inc.//iCal 5.0.2//EN
CALSCALE:GREGORIAN
BEGIN:VTIMEZONE
TZID:Australia/
BEGIN:STANDARD
TZOFFSETFROM:+1100
RRULE:FREQ=YEARLY;BYMONTH=4;BYDAY=1SU
DTSTART:20080406T030000
TZNAME:
TZOFFSETTO:+
END:STANDARD
BEGIN:DAYLIGHT
TZOFFSETFROM:+
RRULE:FREQ=YEARLY;BYMONTH=10;BYDAY=1SU
DTSTART:20081005T020000
TZNAME:AEDT
TZOFFSETTO:+1100
END:DAYLIGHT
END:VTIMEZONE
BEGIN:VEVENT
CREATED:20260425T001703
UID:Property20645596Inspection53753335
DTEND;TZID=Australia/:20210227T103000
TRANSP:OPAQUE
SUMMARY:Open For Inspection: 1D/74 Prince Street, Mosman
DESCRIPTION:Original Condition - Ready For Makeover 
Outstanding Opportunity - Exceptionally located to enjoy an idyllic Mosman/Cremorne lifestyle, this light and airy apartment is in original condition and primed for a complete contemporary makeover. This blank canvas offering presents an outstanding opportunity to renovate and add further value while capitalising on its premier address, a stroll to village shops and cafes, city buses and the Orpheum Theatre.
.Original interiors in desperate need of a contemporary makeover
.Combined lounge and dining area flooded with natural light
.Spacious kitchen with exciting potential for a modern redesign
.Prime blank canvas with boundless potential and possibilities
.Well proportioned bedrooms appointed with built-in wardrobes
.Sunlit undercover balcony, full sized bright and airy bathroom
.Outstanding investment or first home in sought-after address
.Invaluable car space, stroll to city buses, Orpheum Theatre
LAST-MODIFIED:20260425T001703
DTSTAMP:20260425T001703
DTSTART;TZID=Australia/:20210227T100000
LOCATION:1D/74 Prince Street Mosman NSW 2088
URL:http://krulisresidential.com.au/20645596
SEQUENCE:0
END:VEVENT
END:VCALENDAR
