BEGIN:VCALENDAR
VERSION:2.0
PRODID:-//Apple Inc.//iCal 5.0.2//EN
CALSCALE:GREGORIAN
BEGIN:VTIMEZONE
TZID:Australia/
BEGIN:STANDARD
TZOFFSETFROM:+1100
RRULE:FREQ=YEARLY;BYMONTH=4;BYDAY=1SU
DTSTART:20080406T030000
TZNAME:
TZOFFSETTO:+
END:STANDARD
BEGIN:DAYLIGHT
TZOFFSETFROM:+
RRULE:FREQ=YEARLY;BYMONTH=10;BYDAY=1SU
DTSTART:20081005T020000
TZNAME:AEDT
TZOFFSETTO:+1100
END:DAYLIGHT
END:VTIMEZONE
BEGIN:VEVENT
CREATED:20260425T001819
UID:Property20624790Inspection53758342
DTEND;TZID=Australia/:20210226T111500
TRANSP:OPAQUE
SUMMARY:Open For Inspection: 94/12 Dora Street, Hurstville
DESCRIPTION:STYLISH APARTMENT "PHOENIX GARDENS" QUIET CONVENIENCE - This stylish apartment in a modern security block features a contemporary kitchen with stainless steel appliances, gas cooking and granite benchtops.

The bedroom has ample built-in wardrobe space and sparkling ensuite bathroom with corner spa & separate shower.There is an internal laundry with a dryer included.

Two underground security car spaces with two large additional storage areas are a fabulous asset in this busy suburb.

With Indoor/Outdoor pool, gym & spa this apartment offers the ultimate in lifestyle & convenience.

- Very large open plan Lounge & Dining area
- Balcony with district views
- 2 bedroom security apartment
- Two stylish modern bathrooms, one as ensuite
- Open plan galley style gas kitchen
- Double bedrooms both with built in robes
- Internal laundry
- 2 secure car space
- Security building with lift and caretaker on site
- Complex features Indoor/outdoor pool, gym and spa
- Short walk to Westfield Shopping Centre and station.
- New Paint and Carpet throughout


While care has been taken in the preparation of these particulars, no responsibility is accepted for the accuracy of the whole or any part and interested persons are advised to make their own enquiries and satisfy themselves in all respects.
LAST-MODIFIED:20260425T001819
DTSTAMP:20260425T001819
DTSTART;TZID=Australia/:20210226T110000
LOCATION:94/12 Dora Street Hurstville NSW 2220
URL:http://krulisresidential.com.au/20624790
SEQUENCE:0
END:VEVENT
END:VCALENDAR
