BEGIN:VCALENDAR
VERSION:2.0
PRODID:-//Apple Inc.//iCal 5.0.2//EN
CALSCALE:GREGORIAN
BEGIN:VTIMEZONE
TZID:Australia/
BEGIN:STANDARD
TZOFFSETFROM:+1100
RRULE:FREQ=YEARLY;BYMONTH=4;BYDAY=1SU
DTSTART:20080406T030000
TZNAME:
TZOFFSETTO:+
END:STANDARD
BEGIN:DAYLIGHT
TZOFFSETFROM:+
RRULE:FREQ=YEARLY;BYMONTH=10;BYDAY=1SU
DTSTART:20081005T020000
TZNAME:AEDT
TZOFFSETTO:+1100
END:DAYLIGHT
END:VTIMEZONE
BEGIN:VEVENT
CREATED:20260425T020026
UID:Property20388107Inspection52743895
DTEND;TZID=Australia/:20200229T134500
TRANSP:OPAQUE
SUMMARY:Open For Inspection: 13 Borva Street, Dutton Park
DESCRIPTION:Majestic Blue-Chip Riverfront - Set high above the river, in a private cul-de-sac and surrounded by multi-million dollar homes, 13 Borva Street is blue-chip riverfront buying at its finest. 

Built in 1926 this charming character property is in an original condition, with numerous delightful period features, and offers buyers multiple options; live in as-is and enjoy the delightful riverfront setting, renovate the existing 4 bedroom home to create a remarkable period-style property or engage your architect and build an extended river-front dream home. The current Federation gabled Queenslander is set over one level with a South-East river facing verandah.  There is a huge space underneath the house that would lend itself to numerous renovation options. The expansive 1,108sqm block extends down a level area by the river, perfect for a jetty and riverside entertaining.

With a recent $4m nearby sale this may be the best opportunity in years to secure an entry level foothold in one of Brisbane's most unique cul-de- sac riverfront precincts, quiet, exclusive and so close to the CBD.

Features include:

* 1926 built character home with numerous period features
* 1,108sq metres of prime riverfront land
* 4 bedrooms, living, dining, kitchen and sunroom all in a period style
* VJ board, dado, picture rails, leadlights and ceiling roses throughout
* Polished timber floorboards, recently installed new metal roof
* 3 storey high river frontage, 15.5m street frontage 160sqm gross internal area
* Panoramic river views and across to the University Of Queensland.
* Large storage area under the house 
* Minutes to the CBD, Southbank Precinct, Greenslopes & PA Hospitals 
* Elevated position (high enough to avoid a 1 in 100 year flood)

Borva Street is within walking distance to St Ita's Catholic Primary School and the University of Queensland footbridge, the CBD is less than 2 km away. It sits within the Somerville House and Brisbane State High School catchments and South Bank Parklands, the West End cafes, markets and restaurants are all at your fingertips.

Contact Chris White today to arrange your private viewing of this amazing opportunity!

LAST-MODIFIED:20260425T020026
DTSTAMP:20260425T020026
DTSTART;TZID=Australia/:20200229T130000
LOCATION:13 Borva Street Dutton Park QLD 4102
URL:www.hoodestateagents.com.au/20388107
SEQUENCE:0
END:VEVENT
END:VCALENDAR
