BEGIN:VCALENDAR
VERSION:2.0
PRODID:-//Apple Inc.//iCal 5.0.2//EN
CALSCALE:GREGORIAN
BEGIN:VTIMEZONE
TZID:Australia/
BEGIN:STANDARD
TZOFFSETFROM:+1100
RRULE:FREQ=YEARLY;BYMONTH=4;BYDAY=1SU
DTSTART:20080406T030000
TZNAME:
TZOFFSETTO:+
END:STANDARD
BEGIN:DAYLIGHT
TZOFFSETFROM:+
RRULE:FREQ=YEARLY;BYMONTH=10;BYDAY=1SU
DTSTART:20081005T020000
TZNAME:AEDT
TZOFFSETTO:+1100
END:DAYLIGHT
END:VTIMEZONE
BEGIN:VEVENT
CREATED:20260425T015812
UID:Property20407647Inspection52747416
DTEND;TZID=Australia/:20200229T130000
TRANSP:OPAQUE
SUMMARY:Open For Inspection: 45/902 Logan Rd, HOLLAND PARK WEST
DESCRIPTION:If Lifestyle matters - - . 
If you are looking for a location that has everything that an inner-city suburb has to offer, then here it is. 

Short Stroll to cafes and shops, transport at your front door, full city views from the rooftop entertainment and BBQ area with great local views from the unit itself.
This property has been designed to be low maintenance and hassle free for the young professionals or empty nesters.

This apartment has it all, intercom, full security, fully airconditioned, lift, secure parking and remote access.

The Large galley kitchen has been very well appointed and sure to impress even the most fastidious chief in the family. 

The property can be open plan or closed off with separate areas for privacy it is your choice with fully movable walls for your convenience.
It would also be a Brilliant investment opportunity as the property has a rental appraisal of $480 a week - It doesn't get much better than that.

Just drive into a remote controlled under croft carpark which is fully secured and has internal access to the lift and stairs.

Age is not a factor with this Unit as you have a lift straight to your door, also wheelchair access available. 

Do not miss this awesome opportunity - Phone Paul Brinckman from Remax on 0413756333 Today.

LAST-MODIFIED:20260425T015812
DTSTAMP:20260425T015812
DTSTART;TZID=Australia/:20200229T123000
LOCATION:45/902 Logan Rd HOLLAND PARK WEST QLD 4121
URL:www.hoodestateagents.com.au/20407647
SEQUENCE:0
END:VEVENT
END:VCALENDAR
