BEGIN:VCALENDAR
VERSION:2.0
PRODID:-//Apple Inc.//iCal 5.0.2//EN
CALSCALE:GREGORIAN
BEGIN:VTIMEZONE
TZID:Australia/
BEGIN:STANDARD
TZOFFSETFROM:+1100
RRULE:FREQ=YEARLY;BYMONTH=4;BYDAY=1SU
DTSTART:20080406T030000
TZNAME:
TZOFFSETTO:+
END:STANDARD
BEGIN:DAYLIGHT
TZOFFSETFROM:+
RRULE:FREQ=YEARLY;BYMONTH=10;BYDAY=1SU
DTSTART:20081005T020000
TZNAME:AEDT
TZOFFSETTO:+1100
END:DAYLIGHT
END:VTIMEZONE
BEGIN:VEVENT
CREATED:20260425T015900
UID:Property20156004Inspection52747417
DTEND;TZID=Australia/:20200229T113000
TRANSP:OPAQUE
SUMMARY:Open For Inspection: 7 Diamond Street, RIVERVIEW
DESCRIPTION:Idyllic Family Home - With plenty of space to work around for you, your family and friends to enjoy!

The Master bedroom is spacious and comes complete with an en-suite, walk-in robe, TV point, soft carpeting and a ceiling fan with light. The other 3 bedrooms also have their own built-in wardrobe and ceiling fan with light.  All bedrooms have day/night blinds.

The modern new kitchen is immaculate with stone bench tops, electric stove, dishwasher, microwave space, large pantry and a double kitchen sink. The low maintenance stone look floor tiles and kitchen splashback are a dream to clean. 

With its soft neutral colour scheme, this beautiful home will not leave you wanting for more. 

Next to the kitchen is an expansive combined dining and lounge area for all your needs and purposes. The media room at the end of the house can be used as either a media room, 5th bedroom or kids activity room - the choice is yours.

This property has it all! Ducted Airconditioning throughout to give you the perfect environment all year round in the main dining and lounge area which is big enough to envelope the entire home.

Following this the living area opens onto an extensive and very private covered pergola area with a structural concrete floor. If you're looking for a yard to show off the best grass in the area well here you are! 

The owner has just established a low maintenance blue couch lawn (a type of turf) which is stunning to gaze at and is enticing enough to make the children just want to roll in it!

This home has been designed to have an immense amount of storage and space, possessing a large fully fenced yard which comes with a side access that has enough space for a boat or caravan.  

This property is NBN ready and has been fitted with a digital free to air TV antennae, letter box and a thick concrete driveway. 

There are security screens on the windows and doors as well day/night blinds giving you the ability to sleep at any time of the day or to create private light filled spaces.

This idyllic family home is in a secluded cul-de-sac perfect for everything you've ever wanted for you and your family!



LAST-MODIFIED:20260425T015900
DTSTAMP:20260425T015900
DTSTART;TZID=Australia/:20200229T110000
LOCATION:7 Diamond Street RIVERVIEW QLD 4303
URL:www.hoodestateagents.com.au/20156004
SEQUENCE:0
END:VEVENT
END:VCALENDAR
