BEGIN:VCALENDAR
VERSION:2.0
PRODID:-//Apple Inc.//iCal 5.0.2//EN
CALSCALE:GREGORIAN
BEGIN:VTIMEZONE
TZID:Australia/
BEGIN:STANDARD
TZOFFSETFROM:+1100
RRULE:FREQ=YEARLY;BYMONTH=4;BYDAY=1SU
DTSTART:20080406T030000
TZNAME:
TZOFFSETTO:+
END:STANDARD
BEGIN:DAYLIGHT
TZOFFSETFROM:+
RRULE:FREQ=YEARLY;BYMONTH=10;BYDAY=1SU
DTSTART:20081005T020000
TZNAME:AEDT
TZOFFSETTO:+1100
END:DAYLIGHT
END:VTIMEZONE
BEGIN:VEVENT
CREATED:20260425T015858
UID:Property20278585Inspection52749317
DTEND;TZID=Australia/:20200229T124500
TRANSP:OPAQUE
SUMMARY:Open For Inspection: 2 Blaxland Court, MOUNT OMMANEY
DESCRIPTION:Under Contract by Peter Chew - Perched on an elevated position, on an almost third of an acre in a private court in the prestigious suburb of Mount Ommaney, this well-loved fully rendered double storey family home offers an open plan living lifestyle with a spacious alfresco entertaining and pool areas. 

In addition, the extra bonus for you is the huge 10m X 3m elevated powered shed which will be ideal for your caravan, boat, workshop or man-cave.

Downstairs you'll find:

- formal living and dining areas and another informal dining area
- renovated gourmet kitchen with top of the range Miele appliances and granite benchtops
- spacious family and study areas flowing out onto the undercover patio
- extensive alfresco entertainment area & solar heated salt-water in-ground pool (with pool safety certificate compliance)
- 3rd bathroom and laundry area
- 3.8 kWH solar panel system and 2 x 5000L rain water tanks
- monitored central alarm system & Crimsafe type security screens throughout
- remote control double lock up garage with internal access
- extra parking bays for another 3 to 5 cars
- set on a 1,280m2 allotment there is ample room for the kids and pets to run and play

Upstairs you have:

- 5 generous size bedrooms (all with built-ins) & 2 modern bathrooms
- master bedroom with walk-through wardrobe into the ensuite
- gleaming polished hardwood timber flooring throughout
- 4 bedrooms with split air-conditioning system
- roof, gutters and exterior walls recently repainted

Conveniently located within a 1 km walk to Centenary State High School and less than 1.5 km to Mount Ommaney Shopping Centre and Jindalee Primary State School, its location is unparalleled with its close proximity to the Jindalee Boat Ramp, Jindalee Golf Course, an array of shops, restaurants, bus stops and public amenities.

Motivated seller has moved elsewhere and are looking for the next growing family to enjoy living in this lovely home. So, call Peter Chew for your private viewing today!

LAST-MODIFIED:20260425T015858
DTSTAMP:20260425T015858
DTSTART;TZID=Australia/:20200229T120000
LOCATION:2 Blaxland Court MOUNT OMMANEY QLD 4074
URL:www.hoodestateagents.com.au/20278585
SEQUENCE:0
END:VEVENT
END:VCALENDAR
