BEGIN:VCALENDAR
VERSION:2.0
PRODID:-//Apple Inc.//iCal 5.0.2//EN
CALSCALE:GREGORIAN
BEGIN:VTIMEZONE
TZID:Australia/
BEGIN:STANDARD
TZOFFSETFROM:+1100
RRULE:FREQ=YEARLY;BYMONTH=4;BYDAY=1SU
DTSTART:20080406T030000
TZNAME:
TZOFFSETTO:+
END:STANDARD
BEGIN:DAYLIGHT
TZOFFSETFROM:+
RRULE:FREQ=YEARLY;BYMONTH=10;BYDAY=1SU
DTSTART:20081005T020000
TZNAME:AEDT
TZOFFSETTO:+1100
END:DAYLIGHT
END:VTIMEZONE
BEGIN:VEVENT
CREATED:20260425T020028
UID:Property20384469Inspection52750120
DTEND;TZID=Australia/:20200229T103000
TRANSP:OPAQUE
SUMMARY:Open For Inspection: 6 Eriboll Close, MIDDLE PARK
DESCRIPTION:ABSOLUTE GOLF COURSE FRONTAGE! OWNER PURCHASED ELSEWEHERE! MUST BE SOLD! - **LIVE VIDEO WALK-THROUGH AVAILABLE FOR THIS PROPERTY** 

In a continued effort to be proactive for our sellers and landlords and assist purchasers and renters during this time, RE/MAX Riverside are offering a personalised video call (whatsapp for Android) and (Face Time for iPhone) service. If you are unable to, or choose not to physically view this property, please contact the agent who can organise a suitable time to take you through the home by way of a virtual inspection via smartphone.

Situated in a very quiet cul de sac this imposing property is tucked in behind large gates assuring privacy and security. This a rare opportunity to secure a quality home with almost 40meters of direct golf course frontage and access. Sweeping Golf Course views and a short walk or ride to the clubhouse from this elegant double storey home ensure an enviable lifestyle... be quick!

The entry to the home welcomes you into an air-conditioned formal lounge and open plan dining room. The spacious kitchen has high quality stone bench tops, electric oven and overlooks the golfing green extending to the air-conditioned family room and multiple outdoor seating areas. Large sliding doors open to the outdoors with stunning views and cooling breezes overlooking the feature lake and spectacular beauty of McLeod Golf Course. 

There are four built in bedrooms upstairs, two air-conditioned, all with ceiling fans. The master bedroom has a generous ensuite, wall to wall robe, ceiling fan and air con. A third bathroom and separate toilet complete the level.

Features Include but not limited to: 
- Open plan kitchen and family room
- Lounge/Dining room with built in bar
- Ducted air conditioning plus split systems
- Direct access to the course with buggy parking bay.
- Large open living spaces with an abundance of natural light.
- 4 bedrooms upstairs, all with built-in robes and ceiling fans. The master with ensuite, wall to wall robe, ceiling fan and private balcony with stunning views over the lake and Golf course.
- Salt-water swimming pool
- Triple lock up garage with enough space for the golf buggy!
- Easy care 663m2 beautifully manicured block with Golf Course frontage and direct buggy access less than 150 metres to the club house!

The home has been beautifully maintained by the owner however the time has come to downsize, and this wonderful family home will be sold. MUST SEE!


LAST-MODIFIED:20260425T020028
DTSTAMP:20260425T020028
DTSTART;TZID=Australia/:20200229T100000
LOCATION:6 Eriboll Close MIDDLE PARK QLD 4074
URL:www.hoodestateagents.com.au/20384469
SEQUENCE:0
END:VEVENT
END:VCALENDAR
