BEGIN:VCALENDAR
VERSION:2.0
PRODID:-//Apple Inc.//iCal 5.0.2//EN
CALSCALE:GREGORIAN
BEGIN:VTIMEZONE
TZID:Australia/
BEGIN:STANDARD
TZOFFSETFROM:+1100
RRULE:FREQ=YEARLY;BYMONTH=4;BYDAY=1SU
DTSTART:20080406T030000
TZNAME:
TZOFFSETTO:+
END:STANDARD
BEGIN:DAYLIGHT
TZOFFSETFROM:+
RRULE:FREQ=YEARLY;BYMONTH=10;BYDAY=1SU
DTSTART:20081005T020000
TZNAME:AEDT
TZOFFSETTO:+1100
END:DAYLIGHT
END:VTIMEZONE
BEGIN:VEVENT
CREATED:20260425T015818
UID:Property20390117Inspection52750245
DTEND;TZID=Australia/:20200226T111500
TRANSP:OPAQUE
SUMMARY:Open For Inspection: 5/814 Ipswich Rd, ANNERLEY
DESCRIPTION:NEAT AND TIDY UNIT - Lifestyle - Perfectly positioned in the heart of popular Annerley, this neat and tidy unit offers you the ideal lock-up and leave lifestyle. With a fresh design and low maintenance throughout, this small complex consists of only 6 apartments. A mere 20 minutes by bus from the city, supported with train transport and bike tracks, you will love living here! Enjoy the benefits of inner-city living without compromising your privacy.

This functional apartment is located on the upper level of the complex, generously proportioned living area with air-conditioning, a well-appointed kitchen complete with electric oven and cook top, range-hood, and an abundance of storage space. Two spacious bedrooms are equipped with built-in robes and can easily accommodate double beds, whilst the bathroom presents both a shower and good storage. 

A mere 7km to Brisbane's CBD, this top floor apartment offers new carpet, air-conditioning and low maintenance living. A lock up garage with adjoining laundry is on the ground level, adding to the functionality of this property, walking distance to Yeronga Park and walking paths and Yeronga Heated Swimming Complex, you will want to reside here. Live where the action is and inspect today! Sorry, no pets.
LAST-MODIFIED:20260425T015818
DTSTAMP:20260425T015818
DTSTART;TZID=Australia/:20200226T110000
LOCATION:5/814 Ipswich Rd ANNERLEY QLD 4103
URL:www.hoodestateagents.com.au/20390117
SEQUENCE:0
END:VEVENT
END:VCALENDAR
