BEGIN:VCALENDAR
VERSION:2.0
PRODID:-//Apple Inc.//iCal 5.0.2//EN
CALSCALE:GREGORIAN
BEGIN:VTIMEZONE
TZID:Australia/
BEGIN:STANDARD
TZOFFSETFROM:+1100
RRULE:FREQ=YEARLY;BYMONTH=4;BYDAY=1SU
DTSTART:20080406T030000
TZNAME:
TZOFFSETTO:+
END:STANDARD
BEGIN:DAYLIGHT
TZOFFSETFROM:+
RRULE:FREQ=YEARLY;BYMONTH=10;BYDAY=1SU
DTSTART:20081005T020000
TZNAME:AEDT
TZOFFSETTO:+1100
END:DAYLIGHT
END:VTIMEZONE
BEGIN:VEVENT
CREATED:20260425T015945
UID:Property20414412Inspection52750256
DTEND;TZID=Australia/:20200226T120000
TRANSP:OPAQUE
SUMMARY:Open For Inspection: 5 Masthead Street, JAMBOREE HEIGHTS
DESCRIPTION:FRESHLY UPDATED LOW MAINTENANCE HOME AWAITS - Freshly updated low set brick home is located in the popular suburb of Jamboree Heights. Walking distance to schools and Mt Ommaney shopping centre.

The home has been freshly painted with new flooring and carpets throughout. The lounge/dining area adjacent to the new kitchen is serviced with a large air conditioning unit. Three of the four bedrooms have built in wardrobes and the bathroom has a separate bath and shower.

Feel secure in this home with security screens throughout, single lock up garage   and a tidy low maintenance garden.

Pets welcome on application.

Contact agent to arrange an inspection.
LAST-MODIFIED:20260425T015945
DTSTAMP:20260425T015945
DTSTART;TZID=Australia/:20200226T114500
LOCATION:5 Masthead Street JAMBOREE HEIGHTS QLD 4074
URL:www.hoodestateagents.com.au/20414412
SEQUENCE:0
END:VEVENT
END:VCALENDAR
