BEGIN:VCALENDAR
VERSION:2.0
PRODID:-//Apple Inc.//iCal 5.0.2//EN
CALSCALE:GREGORIAN
BEGIN:VTIMEZONE
TZID:Australia/
BEGIN:STANDARD
TZOFFSETFROM:+1100
RRULE:FREQ=YEARLY;BYMONTH=4;BYDAY=1SU
DTSTART:20080406T030000
TZNAME:
TZOFFSETTO:+
END:STANDARD
BEGIN:DAYLIGHT
TZOFFSETFROM:+
RRULE:FREQ=YEARLY;BYMONTH=10;BYDAY=1SU
DTSTART:20081005T020000
TZNAME:AEDT
TZOFFSETTO:+1100
END:DAYLIGHT
END:VTIMEZONE
BEGIN:VEVENT
CREATED:20260425T015731
UID:Property20410868Inspection52754504
DTEND;TZID=Australia/:20200229T101500
TRANSP:OPAQUE
SUMMARY:Open For Inspection: 11 Nigel Street, REDBANK PLAINS
DESCRIPTION:BIG BACK YARD // RUMPUS // SPA - **LIVE VIDEO WALK-THROUGH AVAILABLE FOR THIS PROPERTY** 

In a continued effort to be proactive for our sellers and landlords and assist purchasers and renters during this time, RE/MAX Riverside are offering a personalised video call (whatsapp for Android) and (Face Time for iPhone) service. If you are unable to, or choose not to physically view this property, please contact the agent who can organise a suitable time to take you through the home by way of a virtual inspection via smartphone.

Perfect for First Home Buyers!!!! Beautifully Presented and Immaculately Maintained!!! 

Welcome to a modern brick and tile home that brings you comfort, space and a location that's sure to impress.

Presented in a family friendly street offering some pretty amazing afternoon vibes whether you're relaxing in the outdoor spa or playing games with the kids on the grassy greens out back. 

This home is suited to first home buyers looking to step into the market, down sizers, or the astute investor looking to grow their property portfolio.

Features include but not limited to - 
•	3 good sized bedrooms
•	Master bedroom with Mirrored Built in robe
•	Ceiling fans throughout
•	Split system Air conditioning
•	Modern kitchen and bathroom (separate toilet)
•	Separate rumpus room
•	Security screens throughout 
•	Outdoor Spa 
•	Outdoor Covered Entertaining area
•	702sqm allotment 
•	1990 build
•	Fully fenced back yard
•	Two 3x3 garden sheds 
•	Double carport 
•	Walking distance to public transport, Kruger State School, shops,    childcare, parks and more
•	Beautifully presented and maintained
•	Wonderful neighbourhood 
•	Rental return approx $310-$330 per week.

Approx 2.4km to the massive Town Square Shopping Centre with tonnes of opportunity for residents in the area ~ health & fitness, shop, explore, dine, play, free Wi-Fi and so much more. 
Approx 30km to Brisbane City, 8.2km to Orion Shopping mall at Springfield central which boasts all your favourite retail stores, Orion hotel, huge free water park, restaurants and much more.
Contact Sherelle 7 days for more information - We look forward to meeting you.


LAST-MODIFIED:20260425T015731
DTSTAMP:20260425T015731
DTSTART;TZID=Australia/:20200229T094500
LOCATION:11 Nigel Street REDBANK PLAINS QLD 4301
URL:www.hoodestateagents.com.au/20410868
SEQUENCE:0
END:VEVENT
END:VCALENDAR
