BEGIN:VCALENDAR
VERSION:2.0
PRODID:-//Apple Inc.//iCal 5.0.2//EN
CALSCALE:GREGORIAN
BEGIN:VTIMEZONE
TZID:Australia/
BEGIN:STANDARD
TZOFFSETFROM:+1100
RRULE:FREQ=YEARLY;BYMONTH=4;BYDAY=1SU
DTSTART:20080406T030000
TZNAME:
TZOFFSETTO:+
END:STANDARD
BEGIN:DAYLIGHT
TZOFFSETFROM:+
RRULE:FREQ=YEARLY;BYMONTH=10;BYDAY=1SU
DTSTART:20081005T020000
TZNAME:AEDT
TZOFFSETTO:+1100
END:DAYLIGHT
END:VTIMEZONE
BEGIN:VEVENT
CREATED:20260425T022138
UID:Property20427786Inspection52748560
DTEND;TZID=Australia/:20200229T113000
TRANSP:OPAQUE
SUMMARY:Open For Inspection: 149 Waller Road, Mauku
DESCRIPTION:An Exceptional Rural Retreat - SOLD! - The property has just SOLD.

Set on top of approx. 1.5 acres of prime countryside living in peace and tranquility, this private and picturesque home is superbly positioned with spectacular 360° panoramic views. 

Enjoying everything this prestigious home has to offer, well-proportioned over 267m² embracing 4-5 bedrooms, 3 bathrooms (1 ensuite), 2 living areas & a study, ideal for an extended family.

The kitchen, adjoining dining area and large living spaces flow onto expansive north facing decks set in the centre of outstanding rural views creating a perfect scenic outdoor entertaining area. 

A designer kitchen supports all your culinary excursions with stone benchtops, top quality Bosch appliances and walk in pantry.

The master bedroom enjoys breath-taking views with a beautifully appointed ensuite, underfloor heating & walk-in wardrobe, a second bedroom & a main bathroom plus a study area complete the eastern wing of the house. 

The west wing offers 3rd & 4th bedroom, a full bathroom & a family room/media room(or an additional bedroom), all in complete privacy with 180° views and drowned in afternoon sun.

The fully fenced lifestyle home is completed by 2 car garage, a large laundry, huge attic storage, extensive parking for boats or recreational vehicles.

Never be short of space-either indoors or out. Positioned to capture all day sun, double glazing & a high end ducted central heating and cooling system give you comfortable living all year round, and with stunning views from every room.

Thoughtfully designed & built with passion including a  Master Build 10-Year Guarantee you will love this totally private & peaceful setting.

Just 2km from Puni School and 7.4km to the shops at Pukekohe, this fantastic location gives you tranquil country living right on the doorstep of the ever-growing Pukekohe. 



LAST-MODIFIED:20260425T022138
DTSTAMP:20260425T022138
DTSTART;TZID=Australia/:20200229T110000
LOCATION:149 Waller Road Mauku Auckland 2678
URL:http://www.remaxpartners.co.nz/20427786
SEQUENCE:0
END:VEVENT
END:VCALENDAR
