BEGIN:VCALENDAR
VERSION:2.0
PRODID:-//Apple Inc.//iCal 5.0.2//EN
CALSCALE:GREGORIAN
BEGIN:VTIMEZONE
TZID:Australia/
BEGIN:STANDARD
TZOFFSETFROM:+1100
RRULE:FREQ=YEARLY;BYMONTH=4;BYDAY=1SU
DTSTART:20080406T030000
TZNAME:
TZOFFSETTO:+
END:STANDARD
BEGIN:DAYLIGHT
TZOFFSETFROM:+
RRULE:FREQ=YEARLY;BYMONTH=10;BYDAY=1SU
DTSTART:20081005T020000
TZNAME:AEDT
TZOFFSETTO:+1100
END:DAYLIGHT
END:VTIMEZONE
BEGIN:VEVENT
CREATED:20260425T021822
UID:Property20428271Inspection52749717
DTEND;TZID=Australia/:20200227T180000
TRANSP:OPAQUE
SUMMARY:Open For Inspection: F1,834 Great South Road, Manukau
DESCRIPTION:North Facing Corner Site You Deserve The Best - *Under Covid19 Alert Level 3, Private VIP viewing can be arranged by phone or email.

This stunning multi-level F1 terrace home is ready, don't miss the opportunity! Call us today to view!

The latest development where quality meets affordability, a selection of terrace homes that provides options at affordable price without the need to compromise on style or quality. Upon entry through one of the two entry point, immediately welcomed by the open plan living, dining and kitchen, separate toilet and laundry. Up the stairs three generous sized bedrooms with bathroom divides sleeping and living area, one of the main bedrooms has entry to the bathroom.

Pacific Garden is located in the heart of Manukau just 25 min away from CBD, with a flourishing community, a growing population and superb location. Master planned, timeless and contemporary design. Rental appraisal is available on request if you are interest in investing Pacific Garden. Also, the Master Build 10 year guarantee is designed to ensure you have the protection you need.

Frequent buses run past the Pacific Garden and minutes away is the new Manukau Transport Hub, offering fast and regular bus and train services. Proximity to schools, universities, shopping centre, food court, motorway, White Water Park, rainbows end, hospital and not far away from the airport. 

Show room is located at 834 Great South Road, Manukau 

 Construction is finished. Waiting for CCC and title. Expected in March/April 2020

Key Features:
• 3 bedrooms, 1.5 bathrooms 
• 10 Year Master Build guarantee
• Low maintenance ground cover, hedging and feature planting to gardens
• LED downlights in lounge, kitchen, dining and bedrooms
• Smoke alarm, ventilation 
• Engineered stone bench top, F&P appliances, open plan living and dining
• Private Driveway Parking up to 2 cars & plenty off street parking
• Freehold title
LAST-MODIFIED:20260425T021822
DTSTAMP:20260425T021822
DTSTART;TZID=Australia/:20200227T110000
LOCATION:F1,834 Great South Road Manukau Auckland 2104
URL:http://www.remaxpartners.co.nz/20428271
SEQUENCE:0
END:VEVENT
END:VCALENDAR
