BEGIN:VCALENDAR
VERSION:2.0
PRODID:-//Apple Inc.//iCal 5.0.2//EN
CALSCALE:GREGORIAN
BEGIN:VTIMEZONE
TZID:Australia/
BEGIN:STANDARD
TZOFFSETFROM:+1100
RRULE:FREQ=YEARLY;BYMONTH=4;BYDAY=1SU
DTSTART:20080406T030000
TZNAME:
TZOFFSETTO:+
END:STANDARD
BEGIN:DAYLIGHT
TZOFFSETFROM:+
RRULE:FREQ=YEARLY;BYMONTH=10;BYDAY=1SU
DTSTART:20081005T020000
TZNAME:AEDT
TZOFFSETTO:+1100
END:DAYLIGHT
END:VTIMEZONE
BEGIN:VEVENT
CREATED:20260425T021817
UID:Property20428312Inspection52749853
DTEND;TZID=Australia/:20200229T124500
TRANSP:OPAQUE
SUMMARY:Open For Inspection: 59 Harvest Avenue, Orewa
DESCRIPTION:SOLD - SOLD

• Located on a 536sqm flat section
• 3 Living space (including a separated lounge)
• 5 bedrooms, 1 study room and 3.5 bathrooms (including 2 ensuites)
• Facing to a reserve park with beautiful open view and enough sun light
• Excellent indoor-outdoor flow by well-designed layout
• Modern designed kitchen with walk-in pantry
• Private and sheltered outdoor living space
• Security electronic gate. 
• Double garage at rear of house with internal access
• Walking to school, shops, bus stops etc


Please contact me now for viewing 021 223 6669


LAST-MODIFIED:20260425T021817
DTSTAMP:20260425T021817
DTSTART;TZID=Australia/:20200229T120000
LOCATION:59 Harvest Avenue Orewa Auckland 931
URL:http://www.remaxpartners.co.nz/20428312
SEQUENCE:0
END:VEVENT
END:VCALENDAR
