BEGIN:VCALENDAR
VERSION:2.0
PRODID:-//Apple Inc.//iCal 5.0.2//EN
CALSCALE:GREGORIAN
BEGIN:VTIMEZONE
TZID:Australia/
BEGIN:STANDARD
TZOFFSETFROM:+1100
RRULE:FREQ=YEARLY;BYMONTH=4;BYDAY=1SU
DTSTART:20080406T030000
TZNAME:
TZOFFSETTO:+
END:STANDARD
BEGIN:DAYLIGHT
TZOFFSETFROM:+
RRULE:FREQ=YEARLY;BYMONTH=10;BYDAY=1SU
DTSTART:20081005T020000
TZNAME:AEDT
TZOFFSETTO:+1100
END:DAYLIGHT
END:VTIMEZONE
BEGIN:VEVENT
CREATED:20260425T015558
UID:Property20246464Inspection52655017
DTEND;TZID=Australia/:20200229T173000
TRANSP:OPAQUE
SUMMARY:Open For Inspection: 39-41 Beames Avenue, ROOTY HILL
DESCRIPTION:Here's a one off in the MIDDLE of Rooty Hill! - With approximately 7,543square metres in the centre of Rooty Hill this site offers buyers so much! If you develop townhouses here your clients will thank you for having them close to everything! Located on Beames Avenue, you're within striking distance of W Central, Rooty Hill High School, Rooty Hill public School, TAFE, 2 train stations, bus stops, Westfield shopping centre, Mount Druitt Hospital, M4 & M7 motorways and so much more including the new Sydney Coliseum Entertainment Centre.
 
Included in the sale is a gorgeous resort style 5 bed, 2 bath, 3 car Beechwood home with amazing swimming pool, oversized shed and plenty of storage space. Almost surrounded by development this is a last chance opportunity in the area to grab a key piece of land. 
 
Unusually the land is mostly cleared, level and easily accessible from a main road so development becomes simple. Based in the heartlands of Western Sydney, this will attract attention. Make sure you circle this one! 
 
Contact Billy Markovski NOW for more details on 0424 663 522
LAST-MODIFIED:20260425T015558
DTSTAMP:20260425T015558
DTSTART;TZID=Australia/:20200229T170000
LOCATION:39-41 Beames Avenue ROOTY HILL NSW 2766
URL:http://www.remax-xtra.com.au/20246464
SEQUENCE:0
END:VEVENT
END:VCALENDAR
