BEGIN:VCALENDAR
VERSION:2.0
PRODID:-//Apple Inc.//iCal 5.0.2//EN
CALSCALE:GREGORIAN
BEGIN:VTIMEZONE
TZID:Australia/
BEGIN:STANDARD
TZOFFSETFROM:+1100
RRULE:FREQ=YEARLY;BYMONTH=4;BYDAY=1SU
DTSTART:20080406T030000
TZNAME:
TZOFFSETTO:+
END:STANDARD
BEGIN:DAYLIGHT
TZOFFSETFROM:+
RRULE:FREQ=YEARLY;BYMONTH=10;BYDAY=1SU
DTSTART:20081005T020000
TZNAME:AEDT
TZOFFSETTO:+1100
END:DAYLIGHT
END:VTIMEZONE
BEGIN:VEVENT
CREATED:20260425T015604
UID:Property20409970Inspection52708781
DTEND;TZID=Australia/:20200229T120000
TRANSP:OPAQUE
SUMMARY:Open For Inspection: 12 Stockholm Avenue, HASSALL GROVE
DESCRIPTION:Family looking for something special? STOP. RIGHT. HERE!! - Here's a cracking 4 bedder in Hassall Grove that will hold you captive and leave you wanting more! There's an ENORMOUS covered outdoor entertaining area opening onto a salt water pool with a serenity waterfall.... Interested? How's about a modern kitchen with stainless steel appliances, matching stone splash back and benchtops. There's a enough space to satisfy the most avid entertainer. The open plan kitchen and dining space flows effortlessly outdoors to keep the largest family happy.

Speaking of large families you've got 4 bedrooms, all with built in robes. A Jack and Jill bathroom recently modernized complete with bath and rainforest shower, a huge internal laundry and a study! Captivated yet?

You're close to schools, shops, transport, parks, IKEA, Costco and everything Marsden Park has to offer. The M7 speeds you to all parts of Sydney and it's close...

There's way more on offer here with easy care gardens, salt water pool, off street parking plus undercover parking and so much more. Definitely circle this one for a visit! Private viewing? Morris Short 0488 291 908 or Melissa Short 0498 111 300.
LAST-MODIFIED:20260425T015604
DTSTAMP:20260425T015604
DTSTART;TZID=Australia/:20200229T113000
LOCATION:12 Stockholm Avenue HASSALL GROVE NSW 2761
URL:http://www.remax-xtra.com.au/20409970
SEQUENCE:0
END:VEVENT
END:VCALENDAR
