BEGIN:VCALENDAR
VERSION:2.0
PRODID:-//Apple Inc.//iCal 5.0.2//EN
CALSCALE:GREGORIAN
BEGIN:VTIMEZONE
TZID:Australia/
BEGIN:STANDARD
TZOFFSETFROM:+1100
RRULE:FREQ=YEARLY;BYMONTH=4;BYDAY=1SU
DTSTART:20080406T030000
TZNAME:
TZOFFSETTO:+
END:STANDARD
BEGIN:DAYLIGHT
TZOFFSETFROM:+
RRULE:FREQ=YEARLY;BYMONTH=10;BYDAY=1SU
DTSTART:20081005T020000
TZNAME:AEDT
TZOFFSETTO:+1100
END:DAYLIGHT
END:VTIMEZONE
BEGIN:VEVENT
CREATED:20260425T015605
UID:Property20384024Inspection52745680
DTEND;TZID=Australia/:20200229T140000
TRANSP:OPAQUE
SUMMARY:Open For Inspection: 14/10 Hythe Street, MOUNT DRUITT
DESCRIPTION:Amazing opportunity- Walk To All Ammenities!  - This amazing unit, in a unique location just moments walk to train station, bus stops, Westfield shopping centre, medical centre, Pharmacy and just minutes drive to Raging Waters, M4 & M7 highways. 

There is just one unit per floor in this complex which offers you privacy, functionality and spacious contemporary design. An open-plan layout with tiled floors throughout, and complemented by a chic modern kitchen with stainless steel appliances, dishwasher, gas cook top, and plenty of storage space.  

Not one, but two large balconies, one from the open plan area which is perfect for guests and relaxing after a long day, and the other one from the two bedrooms at the back ideal for your morning coffees.   

Additional features include;
* Secure underground car space with allocated parking bays
* 2 oversized bedrooms both with built in wardrobes. 
* Large bathroom with quality fixtures and fittings.    
* Reverse cycle air conditioning  
* Generous visitors secure parking. 

With too many more features to list - definitely put this one on your list!
LAST-MODIFIED:20260425T015605
DTSTAMP:20260425T015605
DTSTART;TZID=Australia/:20200229T133000
LOCATION:14/10 Hythe Street MOUNT DRUITT NSW 2770
URL:http://www.remax-xtra.com.au/20384024
SEQUENCE:0
END:VEVENT
END:VCALENDAR
