BEGIN:VCALENDAR
VERSION:2.0
PRODID:-//Apple Inc.//iCal 5.0.2//EN
CALSCALE:GREGORIAN
BEGIN:VTIMEZONE
TZID:Australia/
BEGIN:STANDARD
TZOFFSETFROM:+1100
RRULE:FREQ=YEARLY;BYMONTH=4;BYDAY=1SU
DTSTART:20080406T030000
TZNAME:
TZOFFSETTO:+
END:STANDARD
BEGIN:DAYLIGHT
TZOFFSETFROM:+
RRULE:FREQ=YEARLY;BYMONTH=10;BYDAY=1SU
DTSTART:20081005T020000
TZNAME:AEDT
TZOFFSETTO:+1100
END:DAYLIGHT
END:VTIMEZONE
BEGIN:VEVENT
CREATED:20260425T015510
UID:Property20373789Inspection52745681
DTEND;TZID=Australia/:20200229T130000
TRANSP:OPAQUE
SUMMARY:Open For Inspection: 76 George Street, MOUNT DRUITT
DESCRIPTION:Spacious Home + Walk To Station - Ideal for the first home buyer or investor and situated right in the heart of the most sought after pocket in Mount Druitt. Walking distance to the train station, TAFE, Westfield shopping centre and just a short drive to Hospital, RSL and M4 & M7 Motorways. You MUST add this one to your list!

* Open plan lounge and dining area seamlessly flows through the large backyard.
* Oversized bedrooms with built in wardrobes.   
* Updated kitchen with lots of bench space, gas cooktop and plenty of cupboards for storage. 
* Large bathroom highlighting quality fixtures and fittings.
* Spacious internal laundry with a second toilet.
* Easy to maintain with tiled floors throughout the whole home.
* Secure lock up garage with additional space for another two cars on the driveway.  
* Private low maintenance landscaped backyard complete with an oversized garden shed.  
   
With too many features to list, properties like this don't last long, so make sure you come to the open home! Call Billy Markovski for more on 0424 663 522.

For our current open homes policy please go to - https://rem.ax/2W4yGp4
LAST-MODIFIED:20260425T015510
DTSTAMP:20260425T015510
DTSTART;TZID=Australia/:20200229T123000
LOCATION:76 George Street MOUNT DRUITT NSW 2770
URL:http://www.remax-xtra.com.au/20373789
SEQUENCE:0
END:VEVENT
END:VCALENDAR
