BEGIN:VCALENDAR
VERSION:2.0
PRODID:-//Apple Inc.//iCal 5.0.2//EN
CALSCALE:GREGORIAN
BEGIN:VTIMEZONE
TZID:Australia/
BEGIN:STANDARD
TZOFFSETFROM:+1100
RRULE:FREQ=YEARLY;BYMONTH=4;BYDAY=1SU
DTSTART:20080406T030000
TZNAME:
TZOFFSETTO:+
END:STANDARD
BEGIN:DAYLIGHT
TZOFFSETFROM:+
RRULE:FREQ=YEARLY;BYMONTH=10;BYDAY=1SU
DTSTART:20081005T020000
TZNAME:AEDT
TZOFFSETTO:+1100
END:DAYLIGHT
END:VTIMEZONE
BEGIN:VEVENT
CREATED:20260425T015605
UID:Property20420565Inspection52745682
DTEND;TZID=Australia/:20200229T150000
TRANSP:OPAQUE
SUMMARY:Open For Inspection: 115 Brisbane Street, ST MARYS
DESCRIPTION:1410sqm block with R3 zoning  - Must be sold - Sitting on approximately 1410sqm of land right in the heart of St Marys within walking distance to train station, school, shops and just short drive to M4 and M7, this is an investment opportunity not to be missed!

Zoned R3 it's a great opportunity to develop as townhouses and make great rental income or build resale value. 

The residence offers: 

- 5 great sized bedrooms with built-in robes
- Stylish bathroom with quality fixtures and fittings. 
- Reverse cycle air conditioning 
- Large 3 car garage 
- Currently rented for $500 per week


Opportunities like this don't last, so make sure you register your interest! Call Billy Markovski now on 0424 663 522
LAST-MODIFIED:20260425T015605
DTSTAMP:20260425T015605
DTSTART;TZID=Australia/:20200229T143000
LOCATION:115 Brisbane Street ST MARYS NSW 2760
URL:http://www.remax-xtra.com.au/20420565
SEQUENCE:0
END:VEVENT
END:VCALENDAR
