BEGIN:VCALENDAR
VERSION:2.0
PRODID:-//Apple Inc.//iCal 5.0.2//EN
CALSCALE:GREGORIAN
BEGIN:VTIMEZONE
TZID:Australia/
BEGIN:STANDARD
TZOFFSETFROM:+1100
RRULE:FREQ=YEARLY;BYMONTH=4;BYDAY=1SU
DTSTART:20080406T030000
TZNAME:
TZOFFSETTO:+
END:STANDARD
BEGIN:DAYLIGHT
TZOFFSETFROM:+
RRULE:FREQ=YEARLY;BYMONTH=10;BYDAY=1SU
DTSTART:20081005T020000
TZNAME:AEDT
TZOFFSETTO:+1100
END:DAYLIGHT
END:VTIMEZONE
BEGIN:VEVENT
CREATED:20260425T015604
UID:Property20403788Inspection52754298
DTEND;TZID=Australia/:20200301T140000
TRANSP:OPAQUE
SUMMARY:Open For Inspection: 3 Hughes Lane, MARRANGAROO
DESCRIPTION:The Gatekeepers Cottage, Marrangaroo, built in 1870 - A beautiful example of Victorian Gothic Revival style architecture. Constructed of coursed, random stone both internally and externally, it features a cross floor plan with steeply pitched corrugated metal roof. Sitting on 5989 square meters of land, this unique building comes with it's own railway carriage! Suitable for use as a cafe, day spa or B&B or simply as a unique residence. This original property offers;

- 2 bedrooms
- Large living area
- Kitchenette
- Galley styled bathroom with contemporary fixtures and fittings
- Railway carriage currently set up for use as a cafe with external deck for seating
- Separate toilet facilities for the cafe
- High traffic area
- Huge amount of parking for visitors
- Close to Lithgow Prison
- Zoned R5 - Large Lot Residential
- Has operated as a Cafe previously

The train carriage is a HUB type carriage built by Tulloch Limited in Rhodes between 1947 and 1949. It is one of only 27 built. It served on the Newcastle Flyer service as a second class carriage until 1988 and was retired in 1990.

Come and see the warmth and charm this unique property offers. With an owner screaming sell, inspection is a must!
LAST-MODIFIED:20260425T015604
DTSTAMP:20260425T015604
DTSTART;TZID=Australia/:20200301T133000
LOCATION:3 Hughes Lane MARRANGAROO NSW 2790
URL:http://www.remax-xtra.com.au/20403788
SEQUENCE:0
END:VEVENT
END:VCALENDAR
