BEGIN:VCALENDAR
VERSION:2.0
PRODID:-//Apple Inc.//iCal 5.0.2//EN
CALSCALE:GREGORIAN
BEGIN:VTIMEZONE
TZID:Australia/
BEGIN:STANDARD
TZOFFSETFROM:+1100
RRULE:FREQ=YEARLY;BYMONTH=4;BYDAY=1SU
DTSTART:20080406T030000
TZNAME:
TZOFFSETTO:+
END:STANDARD
BEGIN:DAYLIGHT
TZOFFSETFROM:+
RRULE:FREQ=YEARLY;BYMONTH=10;BYDAY=1SU
DTSTART:20081005T020000
TZNAME:AEDT
TZOFFSETTO:+1100
END:DAYLIGHT
END:VTIMEZONE
BEGIN:VEVENT
CREATED:20260425T015555
UID:Property20430836Inspection52760030
DTEND;TZID=Australia/:20200229T120000
TRANSP:OPAQUE
SUMMARY:Open For Inspection: 24/42 Patricia Street, BLACKTOWN
DESCRIPTION:First home buyers or investors! - MUST BE SOLD - This young and absolutely immaculate townhouse is ready to just move right in! Perfectly positioned near schools, shops, bus stops and major arterial roads, this townhouse has everything to offer.

* 3 Great size bedrooms with built-ins, laminate floors and en-suite to main.
* Large open plan lounge and dining with tiled floors and lots of natural light and space.
* Updated kitchen with stone bench tops, gas cooking & stainless steel appliances.
* Modern bathrooms with quality fixtures and fittings.
* Relax, unwind & entertain under the rear pergola with great sized backyard. 
* Located next to tennis court, BBQ facilities and large communal playing area. 

Additional features: Natural gas connected to the home, 3rd toilet downstairs, Lock up garage with internal access plus additional car space, reverse cycle air conditioning, colourbond fencing and garden shed, inspection is a must!!!
LAST-MODIFIED:20260425T015555
DTSTAMP:20260425T015555
DTSTART;TZID=Australia/:20200229T113000
LOCATION:24/42 Patricia Street BLACKTOWN NSW 2148
URL:http://www.remax-xtra.com.au/20430836
SEQUENCE:0
END:VEVENT
END:VCALENDAR
