BEGIN:VCALENDAR
VERSION:2.0
PRODID:-//Apple Inc.//iCal 5.0.2//EN
CALSCALE:GREGORIAN
BEGIN:VTIMEZONE
TZID:Australia/
BEGIN:STANDARD
TZOFFSETFROM:+1100
RRULE:FREQ=YEARLY;BYMONTH=4;BYDAY=1SU
DTSTART:20080406T030000
TZNAME:
TZOFFSETTO:+
END:STANDARD
BEGIN:DAYLIGHT
TZOFFSETFROM:+
RRULE:FREQ=YEARLY;BYMONTH=10;BYDAY=1SU
DTSTART:20081005T020000
TZNAME:AEDT
TZOFFSETTO:+1100
END:DAYLIGHT
END:VTIMEZONE
BEGIN:VEVENT
CREATED:20260425T015603
UID:Property20357424Inspection52760090
DTEND;TZID=Australia/:19700101T000000
TRANSP:OPAQUE
SUMMARY:Open For Inspection: 84 Central Park Avenue, NORWEST
DESCRIPTION:Stunning Town House in Norwest! - OWNER SAYS "SELL"!

RE/MAX Xtra is proud to present this stylish Town House in the highly sought after "Central Park Estate", in the heart of Norwest and bordering Bella Vista.

It is stylish and flawlessly presented with unique interesting features for a relaxed lifestyle. A seamless blend of open plan indoor/outdoor living, this is the perfect entertainer.

This property is an easy walk from the fabulous "Club House" with leafy surrounds, lush grassy area and facilities including Pool, Gym, Sauna, BBQ's and entertaining areas.

Central Park embodies a modern, contemporary, elegant lifestyle without compromising on sustainability.

"A place to call home"

The welcoming Lounge, Dining and Kitchen area leads directly onto the timber deck through sliding glass doors. This is Al Fresco living at it's best. The stylish kitchen comes with European appliances, built-in microwave, glass splash back and stone island bench tops.

* Video, intercom, phone and data system with NBN in all rooms.
* Alarm system with infrared detectors.
* Reverse cycle air-conditioning and ducted vacuum systems.
* 3000 litre underground water tank with electric pump
* Natural gas outlet for the Al Fresco
* Guest powder room and a family bathroom

The location is positioned:
Walking distance to Norwest Metro Station.
Norwest market town and water front restaurants.
Circa retail, Private hospital and business park.
Close to Bella Vista School.
Easy Access to M2 and M7 motorways.

Do not miss out on the opportunity to call this YOUR home. For inspections please call Shanthi Bala now on 0411 746 809.

Although RE/MAX Xtra has provided all information related to this property to the best of our knowledge and resources, we shall not be held accountable or responsible for its accuracy. RE/MAX Xtra urge all buyers to conduct their own independent research and consult their own professionals to conduct due diligence before purchasing.

For our current open homes policy please go to - https://rem.ax/2W4yGp4
LAST-MODIFIED:20260425T015603
DTSTAMP:20260425T015603
DTSTART;TZID=Australia/:19700101T100000
LOCATION:84 Central Park Avenue NORWEST NSW 2153
URL:http://www.remax-xtra.com.au/20357424
SEQUENCE:0
END:VEVENT
END:VCALENDAR
