BEGIN:VCALENDAR
VERSION:2.0
PRODID:-//Apple Inc.//iCal 5.0.2//EN
CALSCALE:GREGORIAN
BEGIN:VTIMEZONE
TZID:Australia/
BEGIN:STANDARD
TZOFFSETFROM:+1100
RRULE:FREQ=YEARLY;BYMONTH=4;BYDAY=1SU
DTSTART:20080406T030000
TZNAME:
TZOFFSETTO:+
END:STANDARD
BEGIN:DAYLIGHT
TZOFFSETFROM:+
RRULE:FREQ=YEARLY;BYMONTH=10;BYDAY=1SU
DTSTART:20081005T020000
TZNAME:AEDT
TZOFFSETTO:+1100
END:DAYLIGHT
END:VTIMEZONE
BEGIN:VEVENT
CREATED:20260425T015603
UID:Property20418288Inspection52760106
DTEND;TZID=Australia/:20200229T095000
TRANSP:OPAQUE
SUMMARY:Open For Inspection: 1/27 Brickfield Street, NORTH PARRAMATTA
DESCRIPTION:Make an Offer! Well looked after apartment! not many units in this private block! - Our client seeks a long term tenant for this perfectly presented property and is prepared to offer long term incentives to stay. To say our client is engaged with your well being is an understatement and as such we seek a long term partner to look after this well loved property. Situated at the back of the block in a tree lined street this whisper quiet apartment will leave you wanting for nothing.

This beautifully presented 2 bedroom home is in the centre of North Parramatta. You are within moments walk of parks and playing fields, local schools and university, a well provided Coles store and should you need more you're less than 2 kilometres from Westfield Parramatta, the Parramatta bus/train interchange and Westmead hospital. Throw in a walk to Bankwest Stadium! What more could you want? How's about 3 blocks walk to the Light Rail when it kicks off? Perfect... 

The entire apartment has just been upgraded and is freshly painted. The large master bedroom is at the very back of the property and uniquely features a balcony. Both bedrooms come with wardrobes. There's an updated kitchen with electric stove and an internal laundry opening onto a lounge/dining area. 

Additional Features include;
* Easy clean polished porcelain tiles throughout
* Designated Carport
* Bathroom featuring contemporary fixtures and fittings
* Security screens throughout
* Internal separate large laundry room
* Bright natural lighting throughout 
* Elevated ground floor position 

If you're interested in a long term option contact Morris today on 0488 291 908 to book a private inspection at a time that suits you.

LAST-MODIFIED:20260425T015603
DTSTAMP:20260425T015603
DTSTART;TZID=Australia/:20200229T093000
LOCATION:1/27 Brickfield Street NORTH PARRAMATTA NSW 2151
URL:http://www.remax-xtra.com.au/20418288
SEQUENCE:0
END:VEVENT
END:VCALENDAR
