BEGIN:VCALENDAR
VERSION:2.0
PRODID:-//Apple Inc.//iCal 5.0.2//EN
CALSCALE:GREGORIAN
BEGIN:VTIMEZONE
TZID:Australia/
BEGIN:STANDARD
TZOFFSETFROM:+1100
RRULE:FREQ=YEARLY;BYMONTH=4;BYDAY=1SU
DTSTART:20080406T030000
TZNAME:
TZOFFSETTO:+
END:STANDARD
BEGIN:DAYLIGHT
TZOFFSETFROM:+
RRULE:FREQ=YEARLY;BYMONTH=10;BYDAY=1SU
DTSTART:20081005T020000
TZNAME:AEDT
TZOFFSETTO:+1100
END:DAYLIGHT
END:VTIMEZONE
BEGIN:VEVENT
CREATED:20260425T015556
UID:Property20402844Inspection52760125
DTEND;TZID=Australia/:20200229T105000
TRANSP:OPAQUE
SUMMARY:Open For Inspection: 21 Taworri Street, DOONSIDE
DESCRIPTION:Huge Yard! Walk to station! - Here's a clean, tidy 3 bedroom home located just moments walk from Doonside Station and Public School. There's a huge wrap-around yard with a lock up garage plus off street parking for another two vehicles. Everything here is super sized!

There's a super-sized lounge room with three great bedrooms all with built in robes and fans. The kitchen is well laid out and accesses the covered outdoor entertaining area from the back door. 

Additional features include;
* Internal laundry
* A fridge freezer in the kitchen
* An extra outdoor toilet
* Access to Doonside shops and Technology school on the northern (other) side of the station

This great property suits a young growing family who need room to play and grow. It's incredibly well priced and ready to move in. Call Jessica now on 0438 999 045 to make an appointment as this simply can't last!
LAST-MODIFIED:20260425T015556
DTSTAMP:20260425T015556
DTSTART;TZID=Australia/:20200229T103000
LOCATION:21 Taworri Street DOONSIDE NSW 2767
URL:http://www.remax-xtra.com.au/20402844
SEQUENCE:0
END:VEVENT
END:VCALENDAR
