BEGIN:VCALENDAR
VERSION:2.0
PRODID:-//Apple Inc.//iCal 5.0.2//EN
CALSCALE:GREGORIAN
BEGIN:VTIMEZONE
TZID:Australia/
BEGIN:STANDARD
TZOFFSETFROM:+1100
RRULE:FREQ=YEARLY;BYMONTH=4;BYDAY=1SU
DTSTART:20080406T030000
TZNAME:
TZOFFSETTO:+
END:STANDARD
BEGIN:DAYLIGHT
TZOFFSETFROM:+
RRULE:FREQ=YEARLY;BYMONTH=10;BYDAY=1SU
DTSTART:20081005T020000
TZNAME:AEDT
TZOFFSETTO:+1100
END:DAYLIGHT
END:VTIMEZONE
BEGIN:VEVENT
CREATED:20260425T024105
UID:Property20415231Inspection52743067
DTEND;TZID=Australia/:20200229T134500
TRANSP:OPAQUE
SUMMARY:Open For Inspection: 6 Roughley Road, KENTHURST
DESCRIPTION:Secure a unique lifestyle - The time has come for our Vendors to downsize from their home of 30 years. Located in a peaceful Kenthurst cul de sac yet minutes from local shops and schools.

• 2 ha (5 acres) rectangular in shape with a 76m frontage
• A mix of open grass areas and light Sheoak bush
• Property is irrigated by pumping from an enormous dam
• Large colorbond shed, clear span with overhead crane
• Split level home with sunken lounge and formal dining
• Kitchen and family room open to covered rear patio and garden
• Generous bedrooms include ensuite, walk in robe, built ins plus fans and split system air conditioning
• Wide hallways and entrance with internal planter boxes
• Rumpus with shower and toilet plus internal access to double garage

Be the next generation to benefit from both acreage and lifestyle that you and your family will love.

Inspections by appointment only.

We have obtained all information in this document from sources we believe to be reliable, however we cannot guarantee its accuracy. Prospective purchasers are advised to carry out their own investigations.

LAST-MODIFIED:20260425T024105
DTSTAMP:20260425T024105
DTSTART;TZID=Australia/:20200229T130000
LOCATION:6 Roughley Road KENTHURST NSW 2156
URL:http://www.blameygibson.com.au/20415231
SEQUENCE:0
END:VEVENT
END:VCALENDAR
