BEGIN:VCALENDAR
VERSION:2.0
PRODID:-//Apple Inc.//iCal 5.0.2//EN
CALSCALE:GREGORIAN
BEGIN:VTIMEZONE
TZID:Australia/
BEGIN:STANDARD
TZOFFSETFROM:+1100
RRULE:FREQ=YEARLY;BYMONTH=4;BYDAY=1SU
DTSTART:20080406T030000
TZNAME:
TZOFFSETTO:+
END:STANDARD
BEGIN:DAYLIGHT
TZOFFSETFROM:+
RRULE:FREQ=YEARLY;BYMONTH=10;BYDAY=1SU
DTSTART:20081005T020000
TZNAME:AEDT
TZOFFSETTO:+1100
END:DAYLIGHT
END:VTIMEZONE
BEGIN:VEVENT
CREATED:20260425T024249
UID:Property20173130Inspection51662970
DTEND;TZID=Australia/:20190302T143000
TRANSP:OPAQUE
SUMMARY:Open For Inspection: 41 Pear Street, RUNCORN
DESCRIPTION:2023 m2 Land with a House!  Huge Potential! - Wow!  2023 m2 Land with a House!  Huge Potential!

Address:  41 Pear Street, Runcorn
Open Home:  2 - 2:30pm Saturday
Agent:  Thomas Li  on 0448 988 988

Huge Land of 2023 m2!
Subdivision potential!
Great opportunity for a keen investor or project builder!

Yes, 2023 m2 block size with 24.5 metres frontage and 80 metres in depth.  It definitely has development potential.  So this one is great for investor or project builder.

Come & grab it, develop now or in the future, there will be potential capital gain and profit for this subdividable block situated in the convenient and high growth suburb.

This property comes with a 4 bedrooms with ceiling fans (some with air conditioning), polished timber flooring throughout the property, huge veranda for relaxed entertaining on a summer's day.  The home has been upgraded to include a very modern kitchen fitted with a superb range of cabinetry and top appliances with enough space to host a dining setting. 

Other features include:
-	Easy walk to Fruitgrove train station
-	Minutes' walk to city express bus (on Warrigal Road)
-	Close to all amenities (shopping centres, cafes, parks, schools, childcare centre....)
-	Multiple garden and storage sheds
-	Huge double carport and covered side parking area
-	Mature fruit trees in the garden
-	Separate laundry and toilet

Contact the exclusive agent Thomas Lee on 0448 988 988 for a private inspection, or simply come to our Saturday Open Home.   Hurry, it could be yours!



DISCLAIMER: 
Whilst every effort has been made to ensure the accuracy of information contained about this property, it does not constitute any warranty or representation by the vendor or agent. All information contained herein is gathered from sources we consider to be reliable. All interested parties must solely rely on their own inspections, enquiries and searches with all relevant authorities.

LAST-MODIFIED:20260425T024249
DTSTAMP:20260425T024249
DTSTART;TZID=Australia/:20190302T140000
LOCATION:41 Pear Street RUNCORN QLD 4113
URL:http://www.paradisepropertyagents.com.au/20173130
SEQUENCE:0
END:VEVENT
END:VCALENDAR
