BEGIN:VCALENDAR
VERSION:2.0
PRODID:-//Apple Inc.//iCal 5.0.2//EN
CALSCALE:GREGORIAN
BEGIN:VTIMEZONE
TZID:Australia/
BEGIN:STANDARD
TZOFFSETFROM:+1100
RRULE:FREQ=YEARLY;BYMONTH=4;BYDAY=1SU
DTSTART:20080406T030000
TZNAME:
TZOFFSETTO:+
END:STANDARD
BEGIN:DAYLIGHT
TZOFFSETFROM:+
RRULE:FREQ=YEARLY;BYMONTH=10;BYDAY=1SU
DTSTART:20081005T020000
TZNAME:AEDT
TZOFFSETTO:+1100
END:DAYLIGHT
END:VTIMEZONE
BEGIN:VEVENT
CREATED:20260425T024308
UID:Property20173271Inspection51663751
DTEND;TZID=Australia/:20190302T133000
TRANSP:OPAQUE
SUMMARY:Open For Inspection: 77 Somerfield Street, UPPER MOUNT GRAVATT
DESCRIPTION:Mansfield State High School Catchment !  Keen Owner Reduced to Sell!  Offer over $580K Considered - Mansfield State High School Catchment !  Keen Owner Reduced to Sell!

Address:  77 Somerfield Street, Upper Mount Gravatt
Asking price:  $580,000 +
Open Home:  10 - 10:30am Saturday
Contact:  Thomas Lee on 0448 988 988

Kids want to go to Wishart Primary & Mansfield State High?  No worries.  This is the perfect one for your family.  Situates within both catchment of these reputable schools, this lovely family home gives you all the convenience.....

-	 Catchment for primary school:  Wishart Primary (5 min drive)
-	 Catchment for high school:   Mansfield State School (10 mins drive)
-	 Located in a quiet & friendly neighbourhood 
-	 Renovated kitchen
-	 Polished hardwood timber floor
-	 Handy location: minutes to Garden City Shopping Centre
-	 Close to buses & local shops(Wishart Village & Mt Gravatt Plaza)
-	 Easy access to Pacific Motorway....

Current vendor has reduced the price to sell.  Any serious offer over $580,000 will be considered.  Great for first home buyer or investor.  Call the listing agent Thomas Lee on 0448 988 988 to view or simply come to our Open Home.






DISCLAIMER: 
Whilst every effort has been made to ensure the accuracy of information contained about this property, it does not constitute any warranty or representation by the vendor or agent. All information contained herein is gathered from sources we consider to be reliable. All interested parties must solely rely on their own inspections, enquiries and searches with all relevant authorities.

LAST-MODIFIED:20260425T024308
DTSTAMP:20260425T024308
DTSTART;TZID=Australia/:20190302T130000
LOCATION:77 Somerfield Street UPPER MOUNT GRAVATT QLD 4122
URL:http://www.paradisepropertyagents.com.au/20173271
SEQUENCE:0
END:VEVENT
END:VCALENDAR
