BEGIN:VCALENDAR
VERSION:2.0
PRODID:-//Apple Inc.//iCal 5.0.2//EN
CALSCALE:GREGORIAN
BEGIN:VTIMEZONE
TZID:Australia/
BEGIN:STANDARD
TZOFFSETFROM:+1100
RRULE:FREQ=YEARLY;BYMONTH=4;BYDAY=1SU
DTSTART:20080406T030000
TZNAME:
TZOFFSETTO:+
END:STANDARD
BEGIN:DAYLIGHT
TZOFFSETFROM:+
RRULE:FREQ=YEARLY;BYMONTH=10;BYDAY=1SU
DTSTART:20081005T020000
TZNAME:AEDT
TZOFFSETTO:+1100
END:DAYLIGHT
END:VTIMEZONE
BEGIN:VEVENT
CREATED:20260425T024429
UID:Property20130855Inspection51682714
DTEND;TZID=Australia/:20190302T110000
TRANSP:OPAQUE
SUMMARY:Open For Inspection: 82 Trudgian Street, SUNNYBANK
DESCRIPTION:Disregard All the Previous Pricing!  Sunnybank Home on 723 m2!  Great Location! - Keen owner is looking for a quick sale!  Serious offer over $770,000 will be considered....

Address:  82 Trudgian Street, Sunnybank
Price: $770,000 +
Open Home:  11 - 11:30am Saturday
Contact:  Thomas Lee   0448 988 988
	     

Yes, the owner has done the bank valuation (available on request).  And he instructed us: any serious offer over $770,000 will be considered....

Location!  Location!  Location!  

Looking for something close to everything?  This is it!  It takes only 3 minutes to walk to the train, city bus, local parks & shops, etc.  How good is that?

Situated in a big level block of 723 m2, this lovely lowset brick home offers: 4 bedrooms plus a study, 2 bathrooms & toilets, lounge, good condition kitchen, air-conditioning, good size in ground pool....  Plenty of potential.

Only minutes to Sunnybank Plaza & Pineland Shopping Centre, 10 minutes to CBD, direct train to Gold Coast & Airport....What more do you want?  Come inspect this property, it could be yours!

The current owner has committed elsewhere.  Great Chance!  Inspection is a must....





DISCLAIMER: 
Whilst every effort has been made to ensure the accuracy of information contained about this property, it does not constitute any warranty or representation by the vendor or agent. All information contained herein is gathered from sources we consider to be reliable. All interested parties must solely rely on their own inspections, enquiries and searches with all relevant authorities.

LAST-MODIFIED:20260425T024429
DTSTAMP:20260425T024429
DTSTART;TZID=Australia/:20190302T103000
LOCATION:82 Trudgian Street SUNNYBANK QLD 4109
URL:http://www.paradisepropertyagents.com.au/20130855
SEQUENCE:0
END:VEVENT
END:VCALENDAR
