BEGIN:VCALENDAR
VERSION:2.0
PRODID:-//Apple Inc.//iCal 5.0.2//EN
CALSCALE:GREGORIAN
BEGIN:VTIMEZONE
TZID:Australia/
BEGIN:STANDARD
TZOFFSETFROM:+1100
RRULE:FREQ=YEARLY;BYMONTH=4;BYDAY=1SU
DTSTART:20080406T030000
TZNAME:
TZOFFSETTO:+
END:STANDARD
BEGIN:DAYLIGHT
TZOFFSETFROM:+
RRULE:FREQ=YEARLY;BYMONTH=10;BYDAY=1SU
DTSTART:20081005T020000
TZNAME:AEDT
TZOFFSETTO:+1100
END:DAYLIGHT
END:VTIMEZONE
BEGIN:VEVENT
CREATED:20260425T024327
UID:Property20161475Inspection51686328
DTEND;TZID=Australia/:20190302T103000
TRANSP:OPAQUE
SUMMARY:Open For Inspection: 76 Belinda Crescent, SPRINGWOOD
DESCRIPTION:CONTRACT CRASHED! PRICED TO SELL - This immaculate, newly renovated home is being offered for sale for the first time in 26 years.  There is nothing to be done except move straight in or rent out to your new tenants. 

It's location is second to none with just a short drive to all amenities including Springwood bus station, local shopping centres, the prestige John Paul Collage, restaurants, public transportation, parks and gyms.

This home is a must to any investors portfolio and an asset to any first, second or third home owner.  

Features include;

•	3 bedrooms with built in wardrobes, ceiling fans, new carpet & blinds
•	Large refurbished bathroom with separate toilet
•	Brand New, never been used modern kitchen with stainless steel appliances, dishwasher and ample amounts of cupboard and bench space
•	Spacious living/dining area 
•	Air conditioning 
•	Freshly painted, new flooring, new carpet and new blinds throughout
•	Beautiful private outdoor covered entertaining area
•	Single lock up garage that can be easily converted into 4th bedroom or second living area
•	Roof restoration & freshly painted with warranty
•	Fully fenced 607m2 block
•	Easy maintenance gardens and yard
•	Quiet and convenient location
•	Plus so much more

Rental return approx. $450-$470 p/w

Don't delay and call Sam on 0432313811 to arrange your private inspection now.

DISCLAIMER :
Whilst every effort has been made to ensure the accuracy of information contained about this property, it does not constitute any warranty or representation by the vendor or agent. All information contained herein is gathered from sources we consider to be reliable. All interested parties must solely rely on their own inspections, inquiries and searches with all relevant authorities.

LAST-MODIFIED:20260425T024327
DTSTAMP:20260425T024327
DTSTART;TZID=Australia/:20190302T100000
LOCATION:76 Belinda Crescent SPRINGWOOD QLD 4127
URL:http://www.paradisepropertyagents.com.au/20161475
SEQUENCE:0
END:VEVENT
END:VCALENDAR
