BEGIN:VCALENDAR
VERSION:2.0
PRODID:-//Apple Inc.//iCal 5.0.2//EN
CALSCALE:GREGORIAN
BEGIN:VTIMEZONE
TZID:Australia/
BEGIN:STANDARD
TZOFFSETFROM:+1100
RRULE:FREQ=YEARLY;BYMONTH=4;BYDAY=1SU
DTSTART:20080406T030000
TZNAME:
TZOFFSETTO:+
END:STANDARD
BEGIN:DAYLIGHT
TZOFFSETFROM:+
RRULE:FREQ=YEARLY;BYMONTH=10;BYDAY=1SU
DTSTART:20081005T020000
TZNAME:AEDT
TZOFFSETTO:+1100
END:DAYLIGHT
END:VTIMEZONE
BEGIN:VEVENT
CREATED:20260425T024412
UID:Property20104539Inspection51686413
DTEND;TZID=Australia/:20190302T130000
TRANSP:OPAQUE
SUMMARY:Open For Inspection: 5 James Close, ORMEAU
DESCRIPTION:Modern Family Home!  Reduced to Sell! - Lovely Split Level Home!  Affordable Price!

Address: 5 James Close, Ormeau
Price:  $450,000 +
Contact:  Thomas Lee on 0448 988 988

Yes, the current owner has reduced the price for a quick sale.  If you have budget around $450k, please come & check this one out!

Located in a sought after area of Ormeau, this four bedrooms split level home is centrally located between Brisbane and the Gold Coast, close to all amenities, only minutes from the Ormeau Shopping village, Pimpama Junction shopping Centre, childcare & schools, shops, bus stops and the rail station,  with easy access to the M1.

Sitting in a brand new street in Ormeau's "Brook Estate", this only 3 years new split level home offers four bedrooms, with the 4th bedroom on the lower level, together with a separate toilet and laundry.

The middle floor is the entry into the property with a carpeted separate living area, open plan tiled kitchen/living area.
 
Upstairs offers 3 large bedrooms, master with ensuite and walk in wardrobe.  All other bedrooms have built-in wardrobes.

Complete with a modern colour palette this spacious home offers 2 living areas - flexible and roomy! An additional carpeted living area complements the home with a spacious combined kitchen and dining area.

Set on a 550M2 fully fenced elevated block, this property offers a covered patio area that's perfect for those summer nights.  A double car garage with an internal laundry. 

Main Features:
- Four large bedrooms (master with walk in robe)
- Master bedroom with ensuite
- Large open plan living and dining with tiled floors
- Carpeted 2nd good sized living area
- Ultra-modern designer kitchen with sleek bench tops
- Stainless Steel appliances - including dishwasher
- Air Conditioning in living and master bedroom and ceiling fans throughout
- Main bathroom with shower and bath
- Two separate toilets
- Large Covered patio
- Carpeted bedrooms
- Double lock up, remote control garage
- Fully fenced backyard






DISCLAIMER: 
Whilst every effort has been made to ensure the accuracy of information contained about this property, it does not constitute any warranty or representation by the vendor or agent. All information contained herein is gathered from sources we consider to be reliable. All interested parties must solely rely on their own inspections, enquiries and searches with all relevant authorities.

LAST-MODIFIED:20260425T024412
DTSTAMP:20260425T024412
DTSTART;TZID=Australia/:20190302T123000
LOCATION:5 James Close ORMEAU QLD 4208
URL:http://www.paradisepropertyagents.com.au/20104539
SEQUENCE:0
END:VEVENT
END:VCALENDAR
