BEGIN:VCALENDAR
VERSION:2.0
PRODID:-//Apple Inc.//iCal 5.0.2//EN
CALSCALE:GREGORIAN
BEGIN:VTIMEZONE
TZID:Australia/
BEGIN:STANDARD
TZOFFSETFROM:+1100
RRULE:FREQ=YEARLY;BYMONTH=4;BYDAY=1SU
DTSTART:20080406T030000
TZNAME:
TZOFFSETTO:+
END:STANDARD
BEGIN:DAYLIGHT
TZOFFSETFROM:+
RRULE:FREQ=YEARLY;BYMONTH=10;BYDAY=1SU
DTSTART:20081005T020000
TZNAME:AEDT
TZOFFSETTO:+1100
END:DAYLIGHT
END:VTIMEZONE
BEGIN:VEVENT
CREATED:20260425T024435
UID:Property20086375Inspection51689368
DTEND;TZID=Australia/:20190302T110000
TRANSP:OPAQUE
SUMMARY:Open For Inspection: 26/5 Carrington Court, ALGESTER
DESCRIPTION:Great location, Private,Secure, Luxury. - Seller has genuine relocation plans. Property will be SOLD.

Three good sized bedrooms, 2 bathrooms, spacious backyard a shared pool and BBQ area perfect for entertaining.

Owner Occupied for many years, the property is in great condition.

Currently tenanted with 6 month lease at $360pw

Low maintenance, secure and private back yard.

Recent renovations include, new carpets, updated kitchen,  internal painting, new dishwasher, hot water system and appliances,


Other features include:

- Three good sized bedrooms upstairs all with built-in wardrobes.
- Good size block (approx 239m2) with bigger back yard
- Pet friendly: one small pet (up to 10kg) is usually allowed.
- New carpet and new paint throughout the unit, new air conditioner in en-suite
-New Dishwasher, new hot water service.
- Split-system air conditioning and large living area
- Spacious master bedroom complete with en-suite bathroom
- Open plan kitchen with plenty of bench space and storage.
- Spacious back yard great for entertaining
- Ceiling Insulation for better Climate management
- One remote lockup garage and an extra car space
- Regular property maintenance, including Pest and Termite protection.
- Only a few minutes drive to Algester School and St Stephen Primary School
- Easy Access to Logan Motorway, Gold Coast and Brisbane CBD
- Great Onsite management for security and facility services.

Council Rates - Approx $ 248 per Quarter
Body Corporate - Approx $ 69 per week.


The seller has genuine relocation plans, this property will be sold !

Disclaimer - All information detailed herein is gathered from sources we consider to be reliable. However we cannot guarantee or give any warranty about the information provided and interested parties must solely rely on their own enquiries and inspections.




LAST-MODIFIED:20260425T024435
DTSTAMP:20260425T024435
DTSTART;TZID=Australia/:20190302T103000
LOCATION:26/5 Carrington Court ALGESTER QLD 4115
URL:http://www.paradisepropertyagents.com.au/20086375
SEQUENCE:0
END:VEVENT
END:VCALENDAR
