BEGIN:VCALENDAR
VERSION:2.0
PRODID:-//Apple Inc.//iCal 5.0.2//EN
CALSCALE:GREGORIAN
BEGIN:VTIMEZONE
TZID:Australia/
BEGIN:STANDARD
TZOFFSETFROM:+1100
RRULE:FREQ=YEARLY;BYMONTH=4;BYDAY=1SU
DTSTART:20080406T030000
TZNAME:
TZOFFSETTO:+
END:STANDARD
BEGIN:DAYLIGHT
TZOFFSETFROM:+
RRULE:FREQ=YEARLY;BYMONTH=10;BYDAY=1SU
DTSTART:20081005T020000
TZNAME:AEDT
TZOFFSETTO:+1100
END:DAYLIGHT
END:VTIMEZONE
BEGIN:VEVENT
CREATED:20260425T024429
UID:Property20082981Inspection51689373
DTEND;TZID=Australia/:20190302T101500
TRANSP:OPAQUE
SUMMARY:Open For Inspection: 12 Lomond Place, PARKINSON
DESCRIPTION:WHEN ONLY THE BEST WILL DO.... - Discerning buyers looking for their next place to call home should put this outstanding low set property located in the Stretton College catchment area on their must see asap list.It's Ideally positioned in a quiet cul de sac surrounded by quality homes offering the proud new owners a lifestyle to be envied. A spacious modern kitchen with ample bench and cupboard space adjoins open plan living areas ideal for entertaining family and friends,or just plain relaxing.Some of the many but certainly not all of the features of this quality family home include:

5 bedrooms
3 large open plan living areas
Main bathroom and ensuite
Separate laundry
Large covered alfresco entertaining area
Double lock up remote garage
Quality fittings and tiling throughout
Air Conditioning

Don't miss this opportunity to make this your next family home.
Call for an inspection,you won't be disappointed.
LAST-MODIFIED:20260425T024429
DTSTAMP:20260425T024429
DTSTART;TZID=Australia/:20190302T094500
LOCATION:12 Lomond Place PARKINSON QLD 4115
URL:http://www.paradisepropertyagents.com.au/20082981
SEQUENCE:0
END:VEVENT
END:VCALENDAR
