BEGIN:VCALENDAR
VERSION:2.0
PRODID:-//Apple Inc.//iCal 5.0.2//EN
CALSCALE:GREGORIAN
BEGIN:VTIMEZONE
TZID:Australia/
BEGIN:STANDARD
TZOFFSETFROM:+1100
RRULE:FREQ=YEARLY;BYMONTH=4;BYDAY=1SU
DTSTART:20080406T030000
TZNAME:
TZOFFSETTO:+
END:STANDARD
BEGIN:DAYLIGHT
TZOFFSETFROM:+
RRULE:FREQ=YEARLY;BYMONTH=10;BYDAY=1SU
DTSTART:20081005T020000
TZNAME:AEDT
TZOFFSETTO:+1100
END:DAYLIGHT
END:VTIMEZONE
BEGIN:VEVENT
CREATED:20260425T024412
UID:Property20101992Inspection51689375
DTEND;TZID=Australia/:20190302T120000
TRANSP:OPAQUE
SUMMARY:Open For Inspection: 28 Fairweather Street, Berrinba
DESCRIPTION:PRICE REDUCED - IT'S TIME TO ACT! - Savvy investors and first home buyers should be lining up to inspect this well presented family home located in the popular Freshwater Estate.at Berrinba. Some of the many features of this keenly priced property include 4 spacious bedrooms,ensuite,separate lounge room,a huge family room,covered alfresco entertaining area and double lock up remote garage.Being currently rented to excellent tenants at $410 per week it provides a very appealing return of approximately 5% to the astute investor.

4 spacious bedrooms
Ensuite
Separate lounge room 
Huge family room
Alfresco entertaining area
Double lock up remote garage
Air conditioning

Disclaimer - All information detailed herein is gathered from sources we consider to be reliable. However we cannot guarantee or give any warranty about the information provided and interested parties must solely rely on their own enquiries and inspections.
LAST-MODIFIED:20260425T024412
DTSTAMP:20260425T024412
DTSTART;TZID=Australia/:20190302T113000
LOCATION:28 Fairweather Street Berrinba QLD 4117
URL:http://www.paradisepropertyagents.com.au/20101992
SEQUENCE:0
END:VEVENT
END:VCALENDAR
