BEGIN:VCALENDAR
VERSION:2.0
PRODID:-//Apple Inc.//iCal 5.0.2//EN
CALSCALE:GREGORIAN
BEGIN:VTIMEZONE
TZID:Australia/
BEGIN:STANDARD
TZOFFSETFROM:+1100
RRULE:FREQ=YEARLY;BYMONTH=4;BYDAY=1SU
DTSTART:20080406T030000
TZNAME:
TZOFFSETTO:+
END:STANDARD
BEGIN:DAYLIGHT
TZOFFSETFROM:+
RRULE:FREQ=YEARLY;BYMONTH=10;BYDAY=1SU
DTSTART:20081005T020000
TZNAME:AEDT
TZOFFSETTO:+1100
END:DAYLIGHT
END:VTIMEZONE
BEGIN:VEVENT
CREATED:20260425T024429
UID:Property20125161Inspection51690563
DTEND;TZID=Australia/:20190302T120500
TRANSP:OPAQUE
SUMMARY:Open For Inspection: 24 Mortlake Cres, BORONIA HEIGHTS
DESCRIPTION:VALUE PACKED LOW SET CHARMER on 659m2 - An expansive & immaculate property that those of us on a budget can call home. Positioned in a tree lined family orientated local, this original, gorgeous and feel good environment residence will give you and your family year round comfort and practicality 

Ideally positioned close to all amenities and schools only a hop and a skip away, its proximity to all major highways and arterials gets you to most CBDs quickly and effortlessly 

A large home perfect for those starting out in the property world 

This stunning character filled home features 

Clever design with 3 distinct living areas
Expansive kitchen
Rumpus/ multipurpose or 4th bedroom room 
Large entertaining area overlooking your manicured gardens 
Solar power
Air conditioned comfort
Garden Shed & water tank
Corner block position
Sparkling tropical resort inspired in-ground pool Plus much much more 

How much is it all worth to you? 

Seeking offers now for an immediate sale 

Commands your inspection

DISCLAIMER : 
Whilst every effort has been made to ensure the accuracy of information contained about this property, it does not constitute any warranty or representation by the vendor or agent. All information contained herein is gathered from sources we consider to be reliable. All interested parties must solely rely on their own inspections, inquiries and searches with all relevant authorities.
LAST-MODIFIED:20260425T024429
DTSTAMP:20260425T024429
DTSTART;TZID=Australia/:20190302T113500
LOCATION:24 Mortlake Cres BORONIA HEIGHTS QLD 4124
URL:http://www.paradisepropertyagents.com.au/20125161
SEQUENCE:0
END:VEVENT
END:VCALENDAR
